BEGIN:VCALENDAR
VERSION:2.0
PRODID:-//FN-Serviss - ECPv6.15.17.1//NONSGML v1.0//EN
CALSCALE:GREGORIAN
METHOD:PUBLISH
X-ORIGINAL-URL:https://fnserviss.lv
X-WR-CALDESC:Events for FN-Serviss
REFRESH-INTERVAL;VALUE=DURATION:PT1H
X-Robots-Tag:noindex
X-PUBLISHED-TTL:PT1H
BEGIN:VTIMEZONE
TZID:Europe/Helsinki
BEGIN:DAYLIGHT
TZOFFSETFROM:+0200
TZOFFSETTO:+0300
TZNAME:EEST
DTSTART:20220327T010000
END:DAYLIGHT
BEGIN:STANDARD
TZOFFSETFROM:+0300
TZOFFSETTO:+0200
TZNAME:EET
DTSTART:20221030T010000
END:STANDARD
BEGIN:DAYLIGHT
TZOFFSETFROM:+0200
TZOFFSETTO:+0300
TZNAME:EEST
DTSTART:20230326T010000
END:DAYLIGHT
BEGIN:STANDARD
TZOFFSETFROM:+0300
TZOFFSETTO:+0200
TZNAME:EET
DTSTART:20231029T010000
END:STANDARD
BEGIN:DAYLIGHT
TZOFFSETFROM:+0200
TZOFFSETTO:+0300
TZNAME:EEST
DTSTART:20240331T010000
END:DAYLIGHT
BEGIN:STANDARD
TZOFFSETFROM:+0300
TZOFFSETTO:+0200
TZNAME:EET
DTSTART:20241027T010000
END:STANDARD
END:VTIMEZONE
BEGIN:VEVENT
DTSTART;TZID=Europe/Helsinki:20230405T060000
DTEND;TZID=Europe/Helsinki:20230405T131500
DTSTAMP:20260426T071842
CREATED:20220927T105523Z
LAST-MODIFIED:20230113T081941Z
UID:10000110-1680674400-1680700500@fnserviss.lv
SUMMARY:60 stundu pamatlīmeņa kursi "Darba aizsardzībā" grupa Nr.2-1.diena
DESCRIPTION:Pamatlīmeņa\, jeb 60 stundu\, apmācības laikā speciālisti iegūst zināšanas par būtiskākajiem darba aizsardzības pamatjautājumiem: vispārīgiem darba aizsardzības jautājumiem\, normatīvajiem aktiem\, darba vides risku ietekmi\, novērtēšanu un novēršanu.
URL:https://fnserviss.lv/event/60-stundu-pamatlimena-kursi-darba-aizsardziba-1-diena-8/
LOCATION:Tiešsaistē\, MS Teams
CATEGORIES:Darba aizsardzības kursi un semināri
ATTACH;FMTTYPE=image/png:https://fnserviss.lv/wp-content/uploads/darba_aizsardziba.png
ORGANIZER;CN="M%C4%81c%C4%ABbu centrs 'Dro%C5%A1%C4%ABba'":MAILTO:macibucentrs@fnserviss.lv
END:VEVENT
BEGIN:VEVENT
DTSTART;TZID=Europe/Helsinki:20230406T060000
DTEND;TZID=Europe/Helsinki:20230406T131500
DTSTAMP:20260426T071842
CREATED:20220927T105712Z
LAST-MODIFIED:20230113T082001Z
UID:10000111-1680760800-1680786900@fnserviss.lv
SUMMARY:60 stundu pamatlīmeņa kursi "Darba aizsardzībā" grupa Nr.2-2.diena
DESCRIPTION:Pamatlīmeņa\, jeb 60 stundu\, apmācības laikā speciālisti iegūst zināšanas par būtiskākajiem darba aizsardzības pamatjautājumiem: vispārīgiem darba aizsardzības jautājumiem\, normatīvajiem aktiem\, darba vides risku ietekmi\, novērtēšanu un novēršanu.
URL:https://fnserviss.lv/event/60-stundu-pamatlimena-kursi-darba-aizsardziba-2-diena-8/
LOCATION:Tiešsaistē\, MS Teams
CATEGORIES:Darba aizsardzības kursi un semināri
ATTACH;FMTTYPE=image/png:https://fnserviss.lv/wp-content/uploads/darba_aizsardziba.png
ORGANIZER;CN="M%C4%81c%C4%ABbu centrs 'Dro%C5%A1%C4%ABba'":MAILTO:macibucentrs@fnserviss.lv
END:VEVENT
BEGIN:VEVENT
DTSTART;TZID=Europe/Helsinki:20230412T060000
DTEND;TZID=Europe/Helsinki:20230412T131500
DTSTAMP:20260426T071842
CREATED:20220927T105808Z
LAST-MODIFIED:20230113T082019Z
UID:10000112-1681279200-1681305300@fnserviss.lv
SUMMARY:60 stundu pamatlīmeņa kursi "Darba aizsardzībā" grupa Nr.2-3.diena
DESCRIPTION:Pamatlīmeņa\, jeb 60 stundu\, apmācības laikā speciālisti iegūst zināšanas par būtiskākajiem darba aizsardzības pamatjautājumiem: vispārīgiem darba aizsardzības jautājumiem\, normatīvajiem aktiem\, darba vides risku ietekmi\, novērtēšanu un novēršanu.
URL:https://fnserviss.lv/event/60-stundu-pamatlimena-kursi-darba-aizsardziba-3-diena-8/
LOCATION:Tiešsaistē\, MS Teams
CATEGORIES:Darba aizsardzības kursi un semināri
ATTACH;FMTTYPE=image/png:https://fnserviss.lv/wp-content/uploads/darba_aizsardziba.png
ORGANIZER;CN="M%C4%81c%C4%ABbu centrs 'Dro%C5%A1%C4%ABba'":MAILTO:macibucentrs@fnserviss.lv
END:VEVENT
BEGIN:VEVENT
DTSTART;TZID=Europe/Helsinki:20230413T060000
DTEND;TZID=Europe/Helsinki:20230413T131500
DTSTAMP:20260426T071842
CREATED:20220927T105853Z
LAST-MODIFIED:20230113T082033Z
UID:10000362-1681365600-1681391700@fnserviss.lv
SUMMARY:60 stundu pamatlīmeņa kursi "Darba aizsardzībā" grupa Nr.2-4.diena
DESCRIPTION:Pamatlīmeņa\, jeb 60 stundu\, apmācības laikā speciālisti iegūst zināšanas par būtiskākajiem darba aizsardzības pamatjautājumiem: vispārīgiem darba aizsardzības jautājumiem\, normatīvajiem aktiem\, darba vides risku ietekmi\, novērtēšanu un novēršanu.
URL:https://fnserviss.lv/event/60-stundu-pamatlimena-kursi-darba-aizsardziba-4-diena-9/
LOCATION:Tiešsaistē\, MS Teams
CATEGORIES:Darba aizsardzības kursi un semināri
ATTACH;FMTTYPE=image/png:https://fnserviss.lv/wp-content/uploads/darba_aizsardziba.png
ORGANIZER;CN="M%C4%81c%C4%ABbu centrs 'Dro%C5%A1%C4%ABba'":MAILTO:macibucentrs@fnserviss.lv
END:VEVENT
BEGIN:VEVENT
DTSTART;TZID=Europe/Helsinki:20230419T060000
DTEND;TZID=Europe/Helsinki:20230419T131500
DTSTAMP:20260426T071842
CREATED:20220927T105927Z
LAST-MODIFIED:20230113T082051Z
UID:10000363-1681884000-1681910100@fnserviss.lv
SUMMARY:60 stundu pamatlīmeņa kursi "Darba aizsardzībā" grupa Nr.2-5.diena
DESCRIPTION:Pamatlīmeņa\, jeb 60 stundu\, apmācības laikā speciālisti iegūst zināšanas par būtiskākajiem darba aizsardzības pamatjautājumiem: vispārīgiem darba aizsardzības jautājumiem\, normatīvajiem aktiem\, darba vides risku ietekmi\, novērtēšanu un novēršanu.
URL:https://fnserviss.lv/event/60-stundu-pamatlimena-kursi-darba-aizsardziba-5-diena-9/
LOCATION:Tiešsaistē\, MS Teams
CATEGORIES:Darba aizsardzības kursi un semināri
ATTACH;FMTTYPE=image/png:https://fnserviss.lv/wp-content/uploads/darba_aizsardziba.png
ORGANIZER;CN="M%C4%81c%C4%ABbu centrs 'Dro%C5%A1%C4%ABba'":MAILTO:macibucentrs@fnserviss.lv
END:VEVENT
BEGIN:VEVENT
DTSTART;TZID=Europe/Helsinki:20230420T060000
DTEND;TZID=Europe/Helsinki:20230420T131500
DTSTAMP:20260426T071842
CREATED:20220927T110003Z
LAST-MODIFIED:20230113T082106Z
UID:10000364-1681970400-1681996500@fnserviss.lv
SUMMARY:60 stundu pamatlīmeņa kursi "Darba aizsardzībā" grupa Nr.2-6.diena
DESCRIPTION:Pamatlīmeņa\, jeb 60 stundu\, apmācības laikā speciālisti iegūst zināšanas par būtiskākajiem darba aizsardzības pamatjautājumiem: vispārīgiem darba aizsardzības jautājumiem\, normatīvajiem aktiem\, darba vides risku ietekmi\, novērtēšanu un novēršanu.
URL:https://fnserviss.lv/event/60-stundu-pamatlimena-kursi-darba-aizsardziba-6-diena-9/
LOCATION:Tiešsaistē\, MS Teams
CATEGORIES:Darba aizsardzības kursi un semināri
ATTACH;FMTTYPE=image/png:https://fnserviss.lv/wp-content/uploads/darba_aizsardziba.png
ORGANIZER;CN="M%C4%81c%C4%ABbu centrs 'Dro%C5%A1%C4%ABba'":MAILTO:macibucentrs@fnserviss.lv
END:VEVENT
BEGIN:VEVENT
DTSTART;TZID=Europe/Helsinki:20230427T060000
DTEND;TZID=Europe/Helsinki:20230427T131500
DTSTAMP:20260426T071842
CREATED:20230112T102112Z
LAST-MODIFIED:20230113T082200Z
UID:10000382-1682575200-1682601300@fnserviss.lv
SUMMARY:60 stundu pamatlīmeņa kursi "Darba aizsardzībā" grupa Nr.2-Noslēguma eksāmens
DESCRIPTION:Pamatlīmeņa\, jeb 60 stundu\, apmācības laikā speciālisti iegūst zināšanas par būtiskākajiem darba aizsardzības pamatjautājumiem: vispārīgiem darba aizsardzības jautājumiem\, normatīvajiem aktiem\, darba vides risku ietekmi\, novērtēšanu un novēršanu.
URL:https://fnserviss.lv/event/60-stundu-pamatlimena-kursi-darba-aizsardziba-6-diena-9-copy/
LOCATION:Tiešsaistē\, MS Teams
CATEGORIES:Darba aizsardzības kursi un semināri
ATTACH;FMTTYPE=image/png:https://fnserviss.lv/wp-content/uploads/darba_aizsardziba.png
ORGANIZER;CN="M%C4%81c%C4%ABbu centrs 'Dro%C5%A1%C4%ABba'":MAILTO:macibucentrs@fnserviss.lv
END:VEVENT
END:VCALENDAR