BEGIN:VCALENDAR
VERSION:2.0
PRODID:-//FN-Serviss - ECPv6.15.17.1//NONSGML v1.0//EN
CALSCALE:GREGORIAN
METHOD:PUBLISH
X-WR-CALNAME:FN-Serviss
X-ORIGINAL-URL:https://fnserviss.lv
X-WR-CALDESC:Events for FN-Serviss
REFRESH-INTERVAL;VALUE=DURATION:PT1H
X-Robots-Tag:noindex
X-PUBLISHED-TTL:PT1H
BEGIN:VTIMEZONE
TZID:Europe/Helsinki
BEGIN:DAYLIGHT
TZOFFSETFROM:+0200
TZOFFSETTO:+0300
TZNAME:EEST
DTSTART:20230326T010000
END:DAYLIGHT
BEGIN:STANDARD
TZOFFSETFROM:+0300
TZOFFSETTO:+0200
TZNAME:EET
DTSTART:20231029T010000
END:STANDARD
BEGIN:DAYLIGHT
TZOFFSETFROM:+0200
TZOFFSETTO:+0300
TZNAME:EEST
DTSTART:20240331T010000
END:DAYLIGHT
BEGIN:STANDARD
TZOFFSETFROM:+0300
TZOFFSETTO:+0200
TZNAME:EET
DTSTART:20241027T010000
END:STANDARD
BEGIN:DAYLIGHT
TZOFFSETFROM:+0200
TZOFFSETTO:+0300
TZNAME:EEST
DTSTART:20250330T010000
END:DAYLIGHT
BEGIN:STANDARD
TZOFFSETFROM:+0300
TZOFFSETTO:+0200
TZNAME:EET
DTSTART:20251026T010000
END:STANDARD
END:VTIMEZONE
BEGIN:VEVENT
DTSTART;TZID=Europe/Helsinki:20240108T070000
DTEND;TZID=Europe/Helsinki:20240108T141500
DTSTAMP:20260423T203304
CREATED:20231018T093002Z
LAST-MODIFIED:20231019T063116Z
UID:10000161-1704697200-1704723300@fnserviss.lv
SUMMARY:160 stundu kursi "Ugunsdrošība un aizsardzība" grupa Nr.1 -1.diena
DESCRIPTION:Pamatlīmeņu zināšanu programma par objekta ugunsdrošību atbildīgajiem darbiniekiem\, 160 stundu profesionālas pilnveides izglītības programma
URL:https://fnserviss.lv/event/160-stundu-kursi-ugundrosiba-un-aizsardziba-grupa-nr-1-1-diena-2024/
LOCATION:Tiešsaistē\, MS Teams
CATEGORIES:Ugunsdrošības kursi un semināri
ATTACH;FMTTYPE=image/png:https://fnserviss.lv/wp-content/uploads/160h.png
ORGANIZER;CN="M%C4%81c%C4%ABbu centrs 'Dro%C5%A1%C4%ABba'":MAILTO:macibucentrs@fnserviss.lv
END:VEVENT
BEGIN:VEVENT
DTSTART;TZID=Europe/Helsinki:20240109T070000
DTEND;TZID=Europe/Helsinki:20240109T141500
DTSTAMP:20260423T203304
CREATED:20231018T095632Z
LAST-MODIFIED:20231019T065707Z
UID:10000164-1704783600-1704809700@fnserviss.lv
SUMMARY:160 stundu kursi "Ugunsdrošība un aizsardzība" grupa Nr.1 -2.diena
DESCRIPTION:Pamatlīmeņu zināšanu programma par objekta ugunsdrošību atbildīgajiem darbiniekiem\, 160 stundu profesionālas pilnveides izglītības programma
URL:https://fnserviss.lv/event/160-stundu-kursi-ugundrosiba-un-aizsardziba-grupa-nr-1-2-diena-2024/
LOCATION:Tiešsaistē\, MS Teams
CATEGORIES:Ugunsdrošības kursi un semināri
ATTACH;FMTTYPE=image/png:https://fnserviss.lv/wp-content/uploads/160h.png
ORGANIZER;CN="M%C4%81c%C4%ABbu centrs 'Dro%C5%A1%C4%ABba'":MAILTO:macibucentrs@fnserviss.lv
END:VEVENT
BEGIN:VEVENT
DTSTART;TZID=Europe/Helsinki:20240115T070000
DTEND;TZID=Europe/Helsinki:20240115T141500
DTSTAMP:20260423T203304
CREATED:20231018T095719Z
LAST-MODIFIED:20231019T065750Z
UID:10000166-1705302000-1705328100@fnserviss.lv
SUMMARY:160 stundu kursi "Ugunsdrošība un aizsardzība" grupa Nr.1 -3.diena
DESCRIPTION:Pamatlīmeņu zināšanu programma par objekta ugunsdrošību atbildīgajiem darbiniekiem\, 160 stundu profesionālas pilnveides izglītības programma
URL:https://fnserviss.lv/event/160-stundu-kursi-ugundrosiba-un-aizsardziba-grupa-nr-1-3-diena-2024/
LOCATION:Tiešsaistē\, MS Teams
CATEGORIES:Ugunsdrošības kursi un semināri
ATTACH;FMTTYPE=image/png:https://fnserviss.lv/wp-content/uploads/160h.png
ORGANIZER;CN="M%C4%81c%C4%ABbu centrs 'Dro%C5%A1%C4%ABba'":MAILTO:macibucentrs@fnserviss.lv
END:VEVENT
BEGIN:VEVENT
DTSTART;TZID=Europe/Helsinki:20240116T070000
DTEND;TZID=Europe/Helsinki:20240116T141500
DTSTAMP:20260423T203304
CREATED:20231018T095803Z
LAST-MODIFIED:20231019T065827Z
UID:10000168-1705388400-1705414500@fnserviss.lv
SUMMARY:160 stundu kursi "Ugunsdrošība un aizsardzība" grupa Nr.1 -4.diena
DESCRIPTION:Pamatlīmeņu zināšanu programma par objekta ugunsdrošību atbildīgajiem darbiniekiem\, 160 stundu profesionālas pilnveides izglītības programma
URL:https://fnserviss.lv/event/160-stundu-kursi-ugundrosiba-un-aizsardziba-grupa-nr-1-4-diena-2024/
LOCATION:Tiešsaistē\, MS Teams
CATEGORIES:Ugunsdrošības kursi un semināri
ATTACH;FMTTYPE=image/png:https://fnserviss.lv/wp-content/uploads/160h.png
ORGANIZER;CN="M%C4%81c%C4%ABbu centrs 'Dro%C5%A1%C4%ABba'":MAILTO:macibucentrs@fnserviss.lv
END:VEVENT
BEGIN:VEVENT
DTSTART;TZID=Europe/Helsinki:20240122T070000
DTEND;TZID=Europe/Helsinki:20240122T141500
DTSTAMP:20260423T203304
CREATED:20231018T095837Z
LAST-MODIFIED:20231019T065911Z
UID:10000169-1705906800-1705932900@fnserviss.lv
SUMMARY:160 stundu kursi "Ugunsdrošība un aizsardzība" grupa Nr.1 - 5.diena
DESCRIPTION:Pamatlīmeņu zināšanu programma par objekta ugunsdrošību atbildīgajiem darbiniekiem\, 160 stundu profesionālas pilnveides izglītības programma
URL:https://fnserviss.lv/event/160-stundu-kursi-ugundrosiba-un-aizsardziba-grupa-nr-1-5-diena-2024/
LOCATION:Tiešsaistē\, MS Teams
CATEGORIES:Ugunsdrošības kursi un semināri
ATTACH;FMTTYPE=image/png:https://fnserviss.lv/wp-content/uploads/160h.png
ORGANIZER;CN="M%C4%81c%C4%ABbu centrs 'Dro%C5%A1%C4%ABba'":MAILTO:macibucentrs@fnserviss.lv
END:VEVENT
BEGIN:VEVENT
DTSTART;TZID=Europe/Helsinki:20240123T070000
DTEND;TZID=Europe/Helsinki:20240123T141500
DTSTAMP:20260423T203304
CREATED:20231018T095956Z
LAST-MODIFIED:20231019T070024Z
UID:10000170-1705993200-1706019300@fnserviss.lv
SUMMARY:160 stundu kursi "Ugunsdrošība un aizsardzība" grupa Nr.1 - 6.diena
DESCRIPTION:Pamatlīmeņu zināšanu programma par objekta ugunsdrošību atbildīgajiem darbiniekiem\, 160 stundu profesionālas pilnveides izglītības programma
URL:https://fnserviss.lv/event/160-stundu-kursi-ugundrosiba-un-aizsardziba-grupa-nr-1-6-diena-2024/
LOCATION:Tiešsaistē\, MS Teams
CATEGORIES:Ugunsdrošības kursi un semināri
ATTACH;FMTTYPE=image/png:https://fnserviss.lv/wp-content/uploads/160h.png
ORGANIZER;CN="M%C4%81c%C4%ABbu centrs 'Dro%C5%A1%C4%ABba'":MAILTO:macibucentrs@fnserviss.lv
END:VEVENT
BEGIN:VEVENT
DTSTART;TZID=Europe/Helsinki:20240129T070000
DTEND;TZID=Europe/Helsinki:20240129T141500
DTSTAMP:20260423T203304
CREATED:20231018T100101Z
LAST-MODIFIED:20231019T070133Z
UID:10000171-1706511600-1706537700@fnserviss.lv
SUMMARY:160 stundu kursi "Ugunsdrošība un aizsardzība" grupa Nr.1 - 7.diena
DESCRIPTION:Pamatlīmeņu zināšanu programma par objekta ugunsdrošību atbildīgajiem darbiniekiem\, 160 stundu profesionālas pilnveides izglītības programma
URL:https://fnserviss.lv/event/160-stundu-kursi-ugundrosiba-un-aizsardziba-grupa-nr-1-7-diena-2024/
LOCATION:Tiešsaistē\, MS Teams
CATEGORIES:Ugunsdrošības kursi un semināri
ATTACH;FMTTYPE=image/png:https://fnserviss.lv/wp-content/uploads/160h.png
ORGANIZER;CN="M%C4%81c%C4%ABbu centrs 'Dro%C5%A1%C4%ABba'":MAILTO:macibucentrs@fnserviss.lv
END:VEVENT
BEGIN:VEVENT
DTSTART;TZID=Europe/Helsinki:20240130T070000
DTEND;TZID=Europe/Helsinki:20240130T141500
DTSTAMP:20260423T203304
CREATED:20231018T100139Z
LAST-MODIFIED:20231019T070208Z
UID:10000174-1706598000-1706624100@fnserviss.lv
SUMMARY:160 stundu kursi "Ugunsdrošība un aizsardzība" grupa Nr.1 - 8.diena
DESCRIPTION:Pamatlīmeņu zināšanu programma par objekta ugunsdrošību atbildīgajiem darbiniekiem\, 160 stundu profesionālas pilnveides izglītības programma
URL:https://fnserviss.lv/event/160-stundu-kursi-ugundrosiba-un-aizsardziba-grupa-nr-1-8-diena-2024/
LOCATION:Tiešsaistē\, MS Teams
CATEGORIES:Ugunsdrošības kursi un semināri
ATTACH;FMTTYPE=image/png:https://fnserviss.lv/wp-content/uploads/160h.png
ORGANIZER;CN="M%C4%81c%C4%ABbu centrs 'Dro%C5%A1%C4%ABba'":MAILTO:macibucentrs@fnserviss.lv
END:VEVENT
END:VCALENDAR