BEGIN:VCALENDAR
VERSION:2.0
PRODID:-//FN-Serviss - ECPv6.15.17.1//NONSGML v1.0//EN
CALSCALE:GREGORIAN
METHOD:PUBLISH
X-ORIGINAL-URL:https://fnserviss.lv
X-WR-CALDESC:Events for FN-Serviss
REFRESH-INTERVAL;VALUE=DURATION:PT1H
X-Robots-Tag:noindex
X-PUBLISHED-TTL:PT1H
BEGIN:VTIMEZONE
TZID:Europe/Helsinki
BEGIN:DAYLIGHT
TZOFFSETFROM:+0200
TZOFFSETTO:+0300
TZNAME:EEST
DTSTART:20230326T010000
END:DAYLIGHT
BEGIN:STANDARD
TZOFFSETFROM:+0300
TZOFFSETTO:+0200
TZNAME:EET
DTSTART:20231029T010000
END:STANDARD
BEGIN:DAYLIGHT
TZOFFSETFROM:+0200
TZOFFSETTO:+0300
TZNAME:EEST
DTSTART:20240331T010000
END:DAYLIGHT
BEGIN:STANDARD
TZOFFSETFROM:+0300
TZOFFSETTO:+0200
TZNAME:EET
DTSTART:20241027T010000
END:STANDARD
BEGIN:DAYLIGHT
TZOFFSETFROM:+0200
TZOFFSETTO:+0300
TZNAME:EEST
DTSTART:20250330T010000
END:DAYLIGHT
BEGIN:STANDARD
TZOFFSETFROM:+0300
TZOFFSETTO:+0200
TZNAME:EET
DTSTART:20251026T010000
END:STANDARD
END:VTIMEZONE
BEGIN:VEVENT
DTSTART;TZID=Europe/Helsinki:20240416T060000
DTEND;TZID=Europe/Helsinki:20240416T170000
DTSTAMP:20260422T111930
CREATED:20231018T102800Z
LAST-MODIFIED:20231019T072848Z
UID:10000428-1713247200-1713286800@fnserviss.lv
SUMMARY:160 stundu kursi "Ugunsdrošība un aizsardzība" grupa Nr.2 -Noslēguma eksāmens
DESCRIPTION:Pamatlīmeņu zināšanu programma par objekta ugunsdrošību atbildīgajiem darbiniekiem\, 160 stundu profesionālas pilnveides izglītības programma
URL:https://fnserviss.lv/event/160-stundu-kursi-ugundrosiba-un-aizsardziba-grupa-nr-2-nosleguma-eksamens-2024/
LOCATION:Tiešsaistē\, MS Teams
CATEGORIES:Ugunsdrošības kursi un semināri
ATTACH;FMTTYPE=image/png:https://fnserviss.lv/wp-content/uploads/160h.png
ORGANIZER;CN="M%C4%81c%C4%ABbu centrs 'Dro%C5%A1%C4%ABba'":MAILTO:macibucentrs@fnserviss.lv
END:VEVENT
BEGIN:VEVENT
DTSTART;TZID=Europe/Helsinki:20240422T060000
DTEND;TZID=Europe/Helsinki:20240422T131500
DTSTAMP:20260422T111930
CREATED:20240417T124314Z
LAST-MODIFIED:20240418T094407Z
UID:10000439-1713765600-1713791700@fnserviss.lv
SUMMARY:160 stundu kursi "Ugunsdrošība un aizsardzība" grupa Nr.3 -1.diena
DESCRIPTION:Pamatlīmeņu zināšanu programma par objekta ugunsdrošību atbildīgajiem darbiniekiem\, 160 stundu profesionālas pilnveides izglītības programma
URL:https://fnserviss.lv/event/160-stundu-kursi-ugundrosiba-un-aizsardziba-grupa-nr-2-1-diena-2024-copy/
LOCATION:Tiešsaistē\, MS Teams
CATEGORIES:Ugunsdrošības kursi un semināri
ATTACH;FMTTYPE=image/png:https://fnserviss.lv/wp-content/uploads/160h.png
ORGANIZER;CN="M%C4%81c%C4%ABbu centrs 'Dro%C5%A1%C4%ABba'":MAILTO:macibucentrs@fnserviss.lv
END:VEVENT
BEGIN:VEVENT
DTSTART;TZID=Europe/Helsinki:20240423T060000
DTEND;TZID=Europe/Helsinki:20240423T131500
DTSTAMP:20260422T111930
CREATED:20240417T124417Z
LAST-MODIFIED:20240418T094442Z
UID:10000440-1713852000-1713878100@fnserviss.lv
SUMMARY:160 stundu kursi "Ugunsdrošība un aizsardzība" grupa Nr.3 -2.diena
DESCRIPTION:Pamatlīmeņu zināšanu programma par objekta ugunsdrošību atbildīgajiem darbiniekiem\, 160 stundu profesionālas pilnveides izglītības programma
URL:https://fnserviss.lv/event/160-stundu-kursi-ugundrosiba-un-aizsardziba-grupa-nr-2-1-diena-2024-copy-copy/
LOCATION:Tiešsaistē\, MS Teams
CATEGORIES:Ugunsdrošības kursi un semināri
ATTACH;FMTTYPE=image/png:https://fnserviss.lv/wp-content/uploads/160h.png
ORGANIZER;CN="M%C4%81c%C4%ABbu centrs 'Dro%C5%A1%C4%ABba'":MAILTO:macibucentrs@fnserviss.lv
END:VEVENT
BEGIN:VEVENT
DTSTART;TZID=Europe/Helsinki:20240429T060000
DTEND;TZID=Europe/Helsinki:20240429T131500
DTSTAMP:20260422T111930
CREATED:20240417T124510Z
LAST-MODIFIED:20240418T094537Z
UID:10000441-1714370400-1714396500@fnserviss.lv
SUMMARY:160 stundu kursi "Ugunsdrošība un aizsardzība" grupa Nr.3 -3.diena
DESCRIPTION:Pamatlīmeņu zināšanu programma par objekta ugunsdrošību atbildīgajiem darbiniekiem\, 160 stundu profesionālas pilnveides izglītības programma
URL:https://fnserviss.lv/event/160-stundu-kursi-ugundrosiba-un-aizsardziba-grupa-nr-2-1-diena-2024-copy-copy-copy/
LOCATION:Tiešsaistē\, MS Teams
CATEGORIES:Ugunsdrošības kursi un semināri
ATTACH;FMTTYPE=image/png:https://fnserviss.lv/wp-content/uploads/160h.png
ORGANIZER;CN="M%C4%81c%C4%ABbu centrs 'Dro%C5%A1%C4%ABba'":MAILTO:macibucentrs@fnserviss.lv
END:VEVENT
BEGIN:VEVENT
DTSTART;TZID=Europe/Helsinki:20240430T060000
DTEND;TZID=Europe/Helsinki:20240430T131500
DTSTAMP:20260422T111930
CREATED:20240417T124548Z
LAST-MODIFIED:20240418T094619Z
UID:10000442-1714456800-1714482900@fnserviss.lv
SUMMARY:160 stundu kursi "Ugunsdrošība un aizsardzība" grupa Nr.3 -4.diena
DESCRIPTION:Pamatlīmeņu zināšanu programma par objekta ugunsdrošību atbildīgajiem darbiniekiem\, 160 stundu profesionālas pilnveides izglītības programma
URL:https://fnserviss.lv/event/160-stundu-kursi-ugundrosiba-un-aizsardziba-grupa-nr-2-1-diena-2024-copy-copy-copy-copy/
LOCATION:Tiešsaistē\, MS Teams
CATEGORIES:Ugunsdrošības kursi un semināri
ATTACH;FMTTYPE=image/png:https://fnserviss.lv/wp-content/uploads/160h.png
ORGANIZER;CN="M%C4%81c%C4%ABbu centrs 'Dro%C5%A1%C4%ABba'":MAILTO:macibucentrs@fnserviss.lv
END:VEVENT
END:VCALENDAR