BEGIN:VCALENDAR
VERSION:2.0
PRODID:-//FN-Serviss - ECPv6.15.17.1//NONSGML v1.0//EN
CALSCALE:GREGORIAN
METHOD:PUBLISH
X-WR-CALNAME:FN-Serviss
X-ORIGINAL-URL:https://fnserviss.lv
X-WR-CALDESC:Events for FN-Serviss
REFRESH-INTERVAL;VALUE=DURATION:PT1H
X-Robots-Tag:noindex
X-PUBLISHED-TTL:PT1H
BEGIN:VTIMEZONE
TZID:Europe/Helsinki
BEGIN:DAYLIGHT
TZOFFSETFROM:+0200
TZOFFSETTO:+0300
TZNAME:EEST
DTSTART:20200329T010000
END:DAYLIGHT
BEGIN:STANDARD
TZOFFSETFROM:+0300
TZOFFSETTO:+0200
TZNAME:EET
DTSTART:20201025T010000
END:STANDARD
BEGIN:DAYLIGHT
TZOFFSETFROM:+0200
TZOFFSETTO:+0300
TZNAME:EEST
DTSTART:20210328T010000
END:DAYLIGHT
BEGIN:STANDARD
TZOFFSETFROM:+0300
TZOFFSETTO:+0200
TZNAME:EET
DTSTART:20211031T010000
END:STANDARD
BEGIN:DAYLIGHT
TZOFFSETFROM:+0200
TZOFFSETTO:+0300
TZNAME:EEST
DTSTART:20220327T010000
END:DAYLIGHT
BEGIN:STANDARD
TZOFFSETFROM:+0300
TZOFFSETTO:+0200
TZNAME:EET
DTSTART:20221030T010000
END:STANDARD
END:VTIMEZONE
BEGIN:VEVENT
DTSTART;TZID=Europe/Helsinki:20210906T060000
DTEND;TZID=Europe/Helsinki:20210906T131500
DTSTAMP:20260421T163100
CREATED:20210404T080042Z
LAST-MODIFIED:20210810T100947Z
UID:10000090-1630908000-1630934100@fnserviss.lv
SUMMARY:60 stundu pamatlīmeņa kursi "Darba aizsardzībā" 1.diena
DESCRIPTION:Pamatlīmeņa\, jeb 60 stundu\, apmācības laikā speciālisti iegūst zināšanas par būtiskākajiem darba aizsardzības pamatjautājumiem: vispārīgiem darba aizsardzības jautājumiem\, normatīvajiem aktiem\, darba vides risku ietekmi\, novērtēšanu un novēršanu.
URL:https://fnserviss.lv/event/60-stundu-pamatlimena-kursi-darba-aizsardziba/
LOCATION:Tiešsaistē\, MS Teams
ATTACH;FMTTYPE=image/png:https://fnserviss.lv/wp-content/uploads/darba_aizsardziba.png
ORGANIZER;CN="M%C4%81c%C4%ABbu centrs 'Dro%C5%A1%C4%ABba'":MAILTO:macibucentrs@fnserviss.lv
END:VEVENT
BEGIN:VEVENT
DTSTART;TZID=Europe/Helsinki:20210907T060000
DTEND;TZID=Europe/Helsinki:20210907T131500
DTSTAMP:20260421T163100
CREATED:20210404T080946Z
LAST-MODIFIED:20210810T102115Z
UID:10000091-1630994400-1631020500@fnserviss.lv
SUMMARY:60 stundu pamatlīmeņa kursi "Darba aizsardzībā" 2.diena
DESCRIPTION:Pamatlīmeņa jeb 60 stundu apmācības laikā speciālisti iegūst zināšanas par būtiskākajiem darba aizsardzības pamatjautājumiem: vispārīgiem darba aizsardzības jautājumiem\, normatīvajiem aktiem\, darba vides risku ietekmi\, novērtēšanu un novēršanu.
URL:https://fnserviss.lv/event/60-stundu-pamatlimena-kursi-darba-aizsardziba-2-diena/
LOCATION:Tiešsaistē\, MS Teams
CATEGORIES:Darba aizsardzības kursi un semināri
ATTACH;FMTTYPE=image/png:https://fnserviss.lv/wp-content/uploads/darba_aizsardziba.png
ORGANIZER;CN="M%C4%81c%C4%ABbu centrs 'Dro%C5%A1%C4%ABba'":MAILTO:macibucentrs@fnserviss.lv
END:VEVENT
BEGIN:VEVENT
DTSTART;TZID=Europe/Helsinki:20210913T060000
DTEND;TZID=Europe/Helsinki:20210913T131500
DTSTAMP:20260421T163100
CREATED:20210404T090023Z
LAST-MODIFIED:20210810T101506Z
UID:10000093-1631512800-1631538900@fnserviss.lv
SUMMARY:60 stundu pamatlīmeņa kursi "Darba aizsardzībā" 3.diena
DESCRIPTION:Pamatlīmeņa jeb 60 stundu apmācības laikā speciālisti iegūst zināšanas par būtiskākajiem darba aizsardzības pamatjautājumiem: vispārīgiem darba aizsardzības jautājumiem\, normatīvajiem aktiem\, darba vides risku ietekmi\, novērtēšanu un novēršanu.
URL:https://fnserviss.lv/event/60-stundu-pamatlimena-kursi-darba-aizsardziba-2/
LOCATION:Tiešsaistē\, MS Teams
CATEGORIES:Darba aizsardzības kursi un semināri
ATTACH;FMTTYPE=image/png:https://fnserviss.lv/wp-content/uploads/darba_aizsardziba.png
ORGANIZER;CN="M%C4%81c%C4%ABbu centrs 'Dro%C5%A1%C4%ABba'":MAILTO:macibucentrs@fnserviss.lv
END:VEVENT
BEGIN:VEVENT
DTSTART;TZID=Europe/Helsinki:20210914T060000
DTEND;TZID=Europe/Helsinki:20210914T131500
DTSTAMP:20260421T163100
CREATED:20210404T090204Z
LAST-MODIFIED:20210810T101547Z
UID:10000074-1631599200-1631625300@fnserviss.lv
SUMMARY:60 stundu pamatlīmeņa kursi "Darba aizsardzībā" 4.diena
DESCRIPTION:Pamatlīmeņa jeb 60 stundu apmācības laikā speciālisti iegūst zināšanas par būtiskākajiem darba aizsardzības pamatjautājumiem: vispārīgiem darba aizsardzības jautājumiem\, normatīvajiem aktiem\, darba vides risku ietekmi\, novērtēšanu un novēršanu.
URL:https://fnserviss.lv/event/60-stundu-pamatlimena-kursi-darba-aizsardziba-4-diena/
LOCATION:Tiešsaistē\, MS Teams
CATEGORIES:Darba aizsardzības kursi un semināri
ATTACH;FMTTYPE=image/png:https://fnserviss.lv/wp-content/uploads/darba_aizsardziba.png
ORGANIZER;CN="M%C4%81c%C4%ABbu centrs 'Dro%C5%A1%C4%ABba'":MAILTO:macibucentrs@fnserviss.lv
END:VEVENT
BEGIN:VEVENT
DTSTART;TZID=Europe/Helsinki:20210920T060000
DTEND;TZID=Europe/Helsinki:20210920T131500
DTSTAMP:20260421T163100
CREATED:20210404T090345Z
LAST-MODIFIED:20210810T101730Z
UID:10000083-1632117600-1632143700@fnserviss.lv
SUMMARY:60 stundu pamatlīmeņa kursi "Darba aizsardzībā"  5.diena
DESCRIPTION:Pamatlīmeņa jeb 60 stundu apmācības laikā speciālisti iegūst zināšanas par būtiskākajiem darba aizsardzības pamatjautājumiem: vispārīgiem darba aizsardzības jautājumiem\, normatīvajiem aktiem\, darba vides risku ietekmi\, novērtēšanu un novēršanu.
URL:https://fnserviss.lv/event/60-stundu-pamatlimena-kursi-darba-aizsardziba-5-diena/
LOCATION:Tiešsaistē\, MS Teams
CATEGORIES:Darba aizsardzības kursi un semināri
ATTACH;FMTTYPE=image/png:https://fnserviss.lv/wp-content/uploads/darba_aizsardziba.png
ORGANIZER;CN="M%C4%81c%C4%ABbu centrs 'Dro%C5%A1%C4%ABba'":MAILTO:macibucentrs@fnserviss.lv
END:VEVENT
BEGIN:VEVENT
DTSTART;TZID=Europe/Helsinki:20210921T060000
DTEND;TZID=Europe/Helsinki:20210921T131500
DTSTAMP:20260421T163100
CREATED:20210404T090520Z
LAST-MODIFIED:20210810T101659Z
UID:10000084-1632204000-1632230100@fnserviss.lv
SUMMARY:60 stundu pamatlīmeņa kursi "Darba aizsardzībā"  6.diena
DESCRIPTION:Pamatlīmeņa jeb 60 stundu apmācības laikā speciālisti iegūst zināšanas par būtiskākajiem darba aizsardzības pamatjautājumiem: vispārīgiem darba aizsardzības jautājumiem\, normatīvajiem aktiem\, darba vides risku ietekmi\, novērtēšanu un novēršanu.
URL:https://fnserviss.lv/event/60-stundu-pamatlimena-kursi-darba-aizsardziba-6-diena/
LOCATION:Tiešsaistē\, MS Teams
CATEGORIES:Darba aizsardzības kursi un semināri
ATTACH;FMTTYPE=image/png:https://fnserviss.lv/wp-content/uploads/darba_aizsardziba.png
ORGANIZER;CN="M%C4%81c%C4%ABbu centrs 'Dro%C5%A1%C4%ABba'":MAILTO:macibucentrs@fnserviss.lv
END:VEVENT
END:VCALENDAR