BEGIN:VCALENDAR
VERSION:2.0
PRODID:-//FN-Serviss - ECPv6.15.17.1//NONSGML v1.0//EN
CALSCALE:GREGORIAN
METHOD:PUBLISH
X-WR-CALNAME:FN-Serviss
X-ORIGINAL-URL:https://fnserviss.lv
X-WR-CALDESC:Events for FN-Serviss
REFRESH-INTERVAL;VALUE=DURATION:PT1H
X-Robots-Tag:noindex
X-PUBLISHED-TTL:PT1H
BEGIN:VTIMEZONE
TZID:Europe/Helsinki
BEGIN:DAYLIGHT
TZOFFSETFROM:+0200
TZOFFSETTO:+0300
TZNAME:EEST
DTSTART:20240331T010000
END:DAYLIGHT
BEGIN:STANDARD
TZOFFSETFROM:+0300
TZOFFSETTO:+0200
TZNAME:EET
DTSTART:20241027T010000
END:STANDARD
BEGIN:DAYLIGHT
TZOFFSETFROM:+0200
TZOFFSETTO:+0300
TZNAME:EEST
DTSTART:20250330T010000
END:DAYLIGHT
BEGIN:STANDARD
TZOFFSETFROM:+0300
TZOFFSETTO:+0200
TZNAME:EET
DTSTART:20251026T010000
END:STANDARD
BEGIN:DAYLIGHT
TZOFFSETFROM:+0200
TZOFFSETTO:+0300
TZNAME:EEST
DTSTART:20260329T010000
END:DAYLIGHT
BEGIN:STANDARD
TZOFFSETFROM:+0300
TZOFFSETTO:+0200
TZNAME:EET
DTSTART:20261025T010000
END:STANDARD
END:VTIMEZONE
BEGIN:VEVENT
DTSTART;TZID=Europe/Helsinki:20250506T060000
DTEND;TZID=Europe/Helsinki:20250506T131500
DTSTAMP:20260422T111946
CREATED:20240625T135147Z
LAST-MODIFIED:20250403T090032Z
UID:10000492-1746511200-1746537300@fnserviss.lv
SUMMARY:160 stundu kursi "Ugunsdrošība un aizsardzība" grupa Nr.3 -1.diena
DESCRIPTION:Pamatlīmeņu zināšanu programma par objekta ugunsdrošību atbildīgajiem darbiniekiem\, 160 stundu profesionālas pilnveides izglītības programma
URL:https://fnserviss.lv/event/160-stundu-kursi-ugundrosiba-un-aizsardziba-grupa-nr-3-1-diena-2025/
LOCATION:Tiešsaistē\, MS Teams
CATEGORIES:Ugunsdrošības kursi un semināri
ATTACH;FMTTYPE=image/png:https://fnserviss.lv/wp-content/uploads/160h.png
ORGANIZER;CN="M%C4%81c%C4%ABbu centrs 'Dro%C5%A1%C4%ABba'":MAILTO:macibucentrs@fnserviss.lv
END:VEVENT
BEGIN:VEVENT
DTSTART;TZID=Europe/Helsinki:20250424T060000
DTEND;TZID=Europe/Helsinki:20250424T131500
DTSTAMP:20260422T111946
CREATED:20241029T103111Z
LAST-MODIFIED:20241030T083208Z
UID:10000257-1745474400-1745500500@fnserviss.lv
SUMMARY:Pirmās palīdzības kursi  12h un 15h - 1.diena
DESCRIPTION: Kursu laikā tiek apgūtas tādas zināšanas kā:  \n \n\n\n Rīcība negadījuma vietā\, piemēram autoavārijā (t.s. cietušā transportēšana);\n Dzīvībai bīstamas asiņošanas apturēšana;\n Rīcība dažādu slimību gadījumā;\n Rīcība slīkšanas\, dažādu traumu\, amputāciju un elektrotraumu gadījumā;\n Rīcība nelaimes gadījumos (ķīmiskās vielas\, traumas no dzīvniekiem\, svešķermeņiem\, ar vairākiem cietušajiem u.c.);\n ABC praktiskais demonstrējums;\n Pirmās palīdzības aptieciņas saturs\, glābēja drošība.\n Un citi saistītie jautājumi.
URL:https://fnserviss.lv/event/pirmas-palidzibas-kursi-12h-15h-1-diena-aprilis-2025/
LOCATION:Tiešsaistē\, MS Teams
CATEGORIES:Pirmās palīdzības kursi
ATTACH;FMTTYPE=image/png:https://fnserviss.lv/wp-content/uploads/ikonas_seminariem_002.png
ORGANIZER;CN="M%C4%81c%C4%ABbu centrs 'Dro%C5%A1%C4%ABba'":MAILTO:macibucentrs@fnserviss.lv
END:VEVENT
BEGIN:VEVENT
DTSTART;TZID=Europe/Helsinki:20250416T060000
DTEND;TZID=Europe/Helsinki:20250416T170000
DTSTAMP:20260422T111946
CREATED:20240625T134935Z
LAST-MODIFIED:20240805T103347Z
UID:10000491-1744783200-1744822800@fnserviss.lv
SUMMARY:160 stundu kursi "Ugunsdrošība un aizsardzība" grupa Nr.2 -Noslēguma eksāmens
DESCRIPTION:Pamatlīmeņu zināšanu programma par objekta ugunsdrošību atbildīgajiem darbiniekiem\, 160 stundu profesionālas pilnveides izglītības programma
URL:https://fnserviss.lv/event/160-stundu-kursi-ugundrosiba-un-aizsardziba-grupa-nr-2-nosleguma-eksamens-2025/
LOCATION:Tiešsaistē\, MS Teams
CATEGORIES:Ugunsdrošības kursi un semināri
ATTACH;FMTTYPE=image/png:https://fnserviss.lv/wp-content/uploads/160h.png
ORGANIZER;CN="M%C4%81c%C4%ABbu centrs 'Dro%C5%A1%C4%ABba'":MAILTO:macibucentrs@fnserviss.lv
END:VEVENT
BEGIN:VEVENT
DTSTART;TZID=Europe/Helsinki:20250403T060000
DTEND;TZID=Europe/Helsinki:20250403T131500
DTSTAMP:20260422T111946
CREATED:20240625T134647Z
LAST-MODIFIED:20240805T103253Z
UID:10000490-1743660000-1743686100@fnserviss.lv
SUMMARY:160 stundu kursi "Ugunsdrošība un aizsardzība" grupa Nr.2 -10.diena
DESCRIPTION:Pamatlīmeņu zināšanu programma par objekta ugunsdrošību atbildīgajiem darbiniekiem\, 160 stundu profesionālas pilnveides izglītības programma
URL:https://fnserviss.lv/event/160-stundu-kursi-ugundrosiba-un-aizsardziba-grupa-nr-2-10-diena-2025/
LOCATION:Tiešsaistē\, MS Teams
CATEGORIES:Ugunsdrošības kursi un semināri
ATTACH;FMTTYPE=image/png:https://fnserviss.lv/wp-content/uploads/160h.png
ORGANIZER;CN="M%C4%81c%C4%ABbu centrs 'Dro%C5%A1%C4%ABba'":MAILTO:macibucentrs@fnserviss.lv
END:VEVENT
BEGIN:VEVENT
DTSTART;TZID=Europe/Helsinki:20250331T060000
DTEND;TZID=Europe/Helsinki:20250331T131500
DTSTAMP:20260422T111946
CREATED:20240625T134609Z
LAST-MODIFIED:20240626T104645Z
UID:10000489-1743400800-1743426900@fnserviss.lv
SUMMARY:160 stundu kursi "Ugunsdrošība un aizsardzība" grupa Nr.2 -9.diena
DESCRIPTION:Pamatlīmeņu zināšanu programma par objekta ugunsdrošību atbildīgajiem darbiniekiem\, 160 stundu profesionālas pilnveides izglītības programma
URL:https://fnserviss.lv/event/160-stundu-kursi-ugundrosiba-un-aizsardziba-grupa-nr-2-9-diena-2025/
LOCATION:Tiešsaistē\, MS Teams
CATEGORIES:Ugunsdrošības kursi un semināri
ATTACH;FMTTYPE=image/png:https://fnserviss.lv/wp-content/uploads/160h.png
ORGANIZER;CN="M%C4%81c%C4%ABbu centrs 'Dro%C5%A1%C4%ABba'":MAILTO:macibucentrs@fnserviss.lv
END:VEVENT
BEGIN:VEVENT
DTSTART;TZID=Europe/Helsinki:20250327T070000
DTEND;TZID=Europe/Helsinki:20250327T180000
DTSTAMP:20260422T111946
CREATED:20240625T105717Z
LAST-MODIFIED:20240626T080153Z
UID:10000465-1743058800-1743098400@fnserviss.lv
SUMMARY:60 stundu pamatlīmeņa kursi "Darba aizsardzībā" grupa Nr.2-Noslēguma eksāmens
DESCRIPTION:Pamatlīmeņa\, jeb 60 stundu\, apmācības laikā speciālisti iegūst zināšanas par būtiskākajiem darba aizsardzības pamatjautājumiem: vispārīgiem darba aizsardzības jautājumiem\, normatīvajiem aktiem\, darba vides risku ietekmi\, novērtēšanu un novēršanu.
URL:https://fnserviss.lv/event/60-stundu-pamatlimena-kursi-darba-aizsardziba-grupa-nr-2-nosleguma-eksamens-2025/
LOCATION:Tiešsaistē\, MS Teams
CATEGORIES:Darba aizsardzības kursi un semināri
ATTACH;FMTTYPE=image/png:https://fnserviss.lv/wp-content/uploads/darba_aizsardziba.png
ORGANIZER;CN="M%C4%81c%C4%ABbu centrs 'Dro%C5%A1%C4%ABba'":MAILTO:macibucentrs@fnserviss.lv
END:VEVENT
BEGIN:VEVENT
DTSTART;TZID=Europe/Helsinki:20250327T070000
DTEND;TZID=Europe/Helsinki:20250327T141500
DTSTAMP:20260422T111946
CREATED:20240625T134536Z
LAST-MODIFIED:20240805T103227Z
UID:10000488-1743058800-1743084900@fnserviss.lv
SUMMARY:160 stundu kursi "Ugunsdrošība un aizsardzība" grupa Nr.2 -8.diena
DESCRIPTION:Pamatlīmeņu zināšanu programma par objekta ugunsdrošību atbildīgajiem darbiniekiem\, 160 stundu profesionālas pilnveides izglītības programma
URL:https://fnserviss.lv/event/160-stundu-kursi-ugundrosiba-un-aizsardziba-grupa-nr-2-8-diena-2025/
LOCATION:Tiešsaistē\, MS Teams
CATEGORIES:Ugunsdrošības kursi un semināri
ATTACH;FMTTYPE=image/png:https://fnserviss.lv/wp-content/uploads/160h.png
ORGANIZER;CN="M%C4%81c%C4%ABbu centrs 'Dro%C5%A1%C4%ABba'":MAILTO:macibucentrs@fnserviss.lv
END:VEVENT
BEGIN:VEVENT
DTSTART;TZID=Europe/Helsinki:20250324T070000
DTEND;TZID=Europe/Helsinki:20250324T141500
DTSTAMP:20260422T111946
CREATED:20240625T134448Z
LAST-MODIFIED:20240626T104533Z
UID:10000487-1742799600-1742825700@fnserviss.lv
SUMMARY:160 stundu kursi "Ugunsdrošība un aizsardzība" grupa Nr.2 -7.diena
DESCRIPTION:Pamatlīmeņu zināšanu programma par objekta ugunsdrošību atbildīgajiem darbiniekiem\, 160 stundu profesionālas pilnveides izglītības programma
URL:https://fnserviss.lv/event/160-stundu-kursi-ugundrosiba-un-aizsardziba-grupa-nr-2-7-diena-2025/
LOCATION:Tiešsaistē\, MS Teams
CATEGORIES:Ugunsdrošības kursi un semināri
ATTACH;FMTTYPE=image/png:https://fnserviss.lv/wp-content/uploads/160h.png
ORGANIZER;CN="M%C4%81c%C4%ABbu centrs 'Dro%C5%A1%C4%ABba'":MAILTO:macibucentrs@fnserviss.lv
END:VEVENT
BEGIN:VEVENT
DTSTART;TZID=Europe/Helsinki:20250320T070000
DTEND;TZID=Europe/Helsinki:20250320T141500
DTSTAMP:20260422T111946
CREATED:20241029T101804Z
LAST-MODIFIED:20241030T082931Z
UID:10000248-1742454000-1742480100@fnserviss.lv
SUMMARY:Pirmās palīdzības kursi  12h un 15h - 1.diena
DESCRIPTION: Kursu laikā tiek apgūtas tādas zināšanas kā:  \n \n\n\n Rīcība negadījuma vietā\, piemēram autoavārijā (t.s. cietušā transportēšana);\n Dzīvībai bīstamas asiņošanas apturēšana;\n Rīcība dažādu slimību gadījumā;\n Rīcība slīkšanas\, dažādu traumu\, amputāciju un elektrotraumu gadījumā;\n Rīcība nelaimes gadījumos (ķīmiskās vielas\, traumas no dzīvniekiem\, svešķermeņiem\, ar vairākiem cietušajiem u.c.);\n ABC praktiskais demonstrējums;\n Pirmās palīdzības aptieciņas saturs\, glābēja drošība.\n Un citi saistītie jautājumi.
URL:https://fnserviss.lv/event/pirmas-palidzibas-kursi-12h-15h-1-diena-marts-2025/
LOCATION:Tiešsaistē\, MS Teams
CATEGORIES:Pirmās palīdzības kursi
ATTACH;FMTTYPE=image/png:https://fnserviss.lv/wp-content/uploads/ikonas_seminariem_002.png
ORGANIZER;CN="M%C4%81c%C4%ABbu centrs 'Dro%C5%A1%C4%ABba'":MAILTO:macibucentrs@fnserviss.lv
END:VEVENT
BEGIN:VEVENT
DTSTART;TZID=Europe/Helsinki:20250320T070000
DTEND;TZID=Europe/Helsinki:20250320T141500
DTSTAMP:20260422T111946
CREATED:20240625T134411Z
LAST-MODIFIED:20240805T103151Z
UID:10000486-1742454000-1742480100@fnserviss.lv
SUMMARY:160 stundu kursi "Ugunsdrošība un aizsardzība" grupa Nr.2 -6.diena
DESCRIPTION:Pamatlīmeņu zināšanu programma par objekta ugunsdrošību atbildīgajiem darbiniekiem\, 160 stundu profesionālas pilnveides izglītības programma
URL:https://fnserviss.lv/event/160-stundu-kursi-ugundrosiba-un-aizsardziba-grupa-nr-2-6-diena-2025/
LOCATION:Tiešsaistē\, MS Teams
CATEGORIES:Ugunsdrošības kursi un semināri
ATTACH;FMTTYPE=image/png:https://fnserviss.lv/wp-content/uploads/160h.png
ORGANIZER;CN="M%C4%81c%C4%ABbu centrs 'Dro%C5%A1%C4%ABba'":MAILTO:macibucentrs@fnserviss.lv
END:VEVENT
BEGIN:VEVENT
DTSTART;TZID=Europe/Helsinki:20250320T070000
DTEND;TZID=Europe/Helsinki:20250320T141500
DTSTAMP:20260422T111946
CREATED:20240625T111058Z
LAST-MODIFIED:20240626T081131Z
UID:10000472-1742454000-1742480100@fnserviss.lv
SUMMARY:60 stundu pamatlīmeņa kursi "Darba aizsardzībā" grupa Nr.2-6.diena
DESCRIPTION:Pamatlīmeņa\, jeb 60 stundu\, apmācības laikā speciālisti iegūst zināšanas par būtiskākajiem darba aizsardzības pamatjautājumiem: vispārīgiem darba aizsardzības jautājumiem\, normatīvajiem aktiem\, darba vides risku ietekmi\, novērtēšanu un novēršanu.
URL:https://fnserviss.lv/event/60-stundu-pamatlimena-kursi-darba-aizsardziba-grupa-nr-2-6-diena-2025/
LOCATION:Tiešsaistē\, MS Teams
CATEGORIES:Darba aizsardzības kursi un semināri
ATTACH;FMTTYPE=image/png:https://fnserviss.lv/wp-content/uploads/darba_aizsardziba.png
ORGANIZER;CN="M%C4%81c%C4%ABbu centrs 'Dro%C5%A1%C4%ABba'":MAILTO:macibucentrs@fnserviss.lv
END:VEVENT
BEGIN:VEVENT
DTSTART;TZID=Europe/Helsinki:20250319T070000
DTEND;TZID=Europe/Helsinki:20250319T141500
DTSTAMP:20260422T111946
CREATED:20240625T111014Z
LAST-MODIFIED:20240626T081051Z
UID:10000471-1742367600-1742393700@fnserviss.lv
SUMMARY:60 stundu pamatlīmeņa kursi "Darba aizsardzībā" grupa Nr.2-5.diena
DESCRIPTION:Pamatlīmeņa\, jeb 60 stundu\, apmācības laikā speciālisti iegūst zināšanas par būtiskākajiem darba aizsardzības pamatjautājumiem: vispārīgiem darba aizsardzības jautājumiem\, normatīvajiem aktiem\, darba vides risku ietekmi\, novērtēšanu un novēršanu.
URL:https://fnserviss.lv/event/60-stundu-pamatlimena-kursi-darba-aizsardziba-grupa-nr-2-5-diena-2025/
LOCATION:Tiešsaistē\, MS Teams
CATEGORIES:Darba aizsardzības kursi un semināri
ATTACH;FMTTYPE=image/png:https://fnserviss.lv/wp-content/uploads/darba_aizsardziba.png
ORGANIZER;CN="M%C4%81c%C4%ABbu centrs 'Dro%C5%A1%C4%ABba'":MAILTO:macibucentrs@fnserviss.lv
END:VEVENT
BEGIN:VEVENT
DTSTART;TZID=Europe/Helsinki:20250317T070000
DTEND;TZID=Europe/Helsinki:20250317T141500
DTSTAMP:20260422T111946
CREATED:20240625T134321Z
LAST-MODIFIED:20240626T104355Z
UID:10000485-1742194800-1742220900@fnserviss.lv
SUMMARY:160 stundu kursi "Ugunsdrošība un aizsardzība" grupa Nr.2 -5.diena
DESCRIPTION:Pamatlīmeņu zināšanu programma par objekta ugunsdrošību atbildīgajiem darbiniekiem\, 160 stundu profesionālas pilnveides izglītības programma
URL:https://fnserviss.lv/event/160-stundu-kursi-ugundrosiba-un-aizsardziba-grupa-nr-2-5-diena-2025/
LOCATION:Tiešsaistē\, MS Teams
CATEGORIES:Ugunsdrošības kursi un semināri
ATTACH;FMTTYPE=image/png:https://fnserviss.lv/wp-content/uploads/160h.png
ORGANIZER;CN="M%C4%81c%C4%ABbu centrs 'Dro%C5%A1%C4%ABba'":MAILTO:macibucentrs@fnserviss.lv
END:VEVENT
BEGIN:VEVENT
DTSTART;TZID=Europe/Helsinki:20250313T070000
DTEND;TZID=Europe/Helsinki:20250313T141500
DTSTAMP:20260422T111946
CREATED:20240625T133855Z
LAST-MODIFIED:20240805T103120Z
UID:10000484-1741849200-1741875300@fnserviss.lv
SUMMARY:160 stundu kursi "Ugunsdrošība un aizsardzība" grupa Nr.2 -4.diena
DESCRIPTION:Pamatlīmeņu zināšanu programma par objekta ugunsdrošību atbildīgajiem darbiniekiem\, 160 stundu profesionālas pilnveides izglītības programma
URL:https://fnserviss.lv/event/160-stundu-kursi-ugundrosiba-un-aizsardziba-grupa-nr-2-4-diena-2025/
LOCATION:Tiešsaistē\, MS Teams
CATEGORIES:Ugunsdrošības kursi un semināri
ATTACH;FMTTYPE=image/png:https://fnserviss.lv/wp-content/uploads/160h.png
ORGANIZER;CN="M%C4%81c%C4%ABbu centrs 'Dro%C5%A1%C4%ABba'":MAILTO:macibucentrs@fnserviss.lv
END:VEVENT
BEGIN:VEVENT
DTSTART;TZID=Europe/Helsinki:20250313T070000
DTEND;TZID=Europe/Helsinki:20250313T141500
DTSTAMP:20260422T111946
CREATED:20240625T110927Z
LAST-MODIFIED:20240626T081005Z
UID:10000470-1741849200-1741875300@fnserviss.lv
SUMMARY:60 stundu pamatlīmeņa kursi "Darba aizsardzībā" grupa Nr.2-4.diena
DESCRIPTION:Pamatlīmeņa\, jeb 60 stundu\, apmācības laikā speciālisti iegūst zināšanas par būtiskākajiem darba aizsardzības pamatjautājumiem: vispārīgiem darba aizsardzības jautājumiem\, normatīvajiem aktiem\, darba vides risku ietekmi\, novērtēšanu un novēršanu.
URL:https://fnserviss.lv/event/60-stundu-pamatlimena-kursi-darba-aizsardziba-grupa-nr-2-4-diena-2025/
LOCATION:Tiešsaistē\, MS Teams
CATEGORIES:Darba aizsardzības kursi un semināri
ATTACH;FMTTYPE=image/png:https://fnserviss.lv/wp-content/uploads/darba_aizsardziba.png
ORGANIZER;CN="M%C4%81c%C4%ABbu centrs 'Dro%C5%A1%C4%ABba'":MAILTO:macibucentrs@fnserviss.lv
END:VEVENT
BEGIN:VEVENT
DTSTART;TZID=Europe/Helsinki:20250312T070000
DTEND;TZID=Europe/Helsinki:20250312T141500
DTSTAMP:20260422T111946
CREATED:20240625T110751Z
LAST-MODIFIED:20240626T080904Z
UID:10000469-1741762800-1741788900@fnserviss.lv
SUMMARY:60 stundu pamatlīmeņa kursi "Darba aizsardzībā" grupa Nr.2-3.diena
DESCRIPTION:Pamatlīmeņa\, jeb 60 stundu\, apmācības laikā speciālisti iegūst zināšanas par būtiskākajiem darba aizsardzības pamatjautājumiem: vispārīgiem darba aizsardzības jautājumiem\, normatīvajiem aktiem\, darba vides risku ietekmi\, novērtēšanu un novēršanu.
URL:https://fnserviss.lv/event/60-stundu-pamatlimena-kursi-darba-aizsardziba-grupa-nr-2-3-diena-2025/
LOCATION:Tiešsaistē\, MS Teams
CATEGORIES:Darba aizsardzības kursi un semināri
ATTACH;FMTTYPE=image/png:https://fnserviss.lv/wp-content/uploads/darba_aizsardziba.png
ORGANIZER;CN="M%C4%81c%C4%ABbu centrs 'Dro%C5%A1%C4%ABba'":MAILTO:macibucentrs@fnserviss.lv
END:VEVENT
BEGIN:VEVENT
DTSTART;TZID=Europe/Helsinki:20250310T070000
DTEND;TZID=Europe/Helsinki:20250310T141500
DTSTAMP:20260422T111946
CREATED:20240625T133648Z
LAST-MODIFIED:20240626T103721Z
UID:10000483-1741590000-1741616100@fnserviss.lv
SUMMARY:160 stundu kursi "Ugunsdrošība un aizsardzība" grupa Nr.2 -3.diena
DESCRIPTION:Pamatlīmeņu zināšanu programma par objekta ugunsdrošību atbildīgajiem darbiniekiem\, 160 stundu profesionālas pilnveides izglītības programma
URL:https://fnserviss.lv/event/160-stundu-kursi-ugundrosiba-un-aizsardziba-grupa-nr-2-3-diena-2025/
LOCATION:Tiešsaistē\, MS Teams
CATEGORIES:Ugunsdrošības kursi un semināri
ATTACH;FMTTYPE=image/png:https://fnserviss.lv/wp-content/uploads/160h.png
ORGANIZER;CN="M%C4%81c%C4%ABbu centrs 'Dro%C5%A1%C4%ABba'":MAILTO:macibucentrs@fnserviss.lv
END:VEVENT
BEGIN:VEVENT
DTSTART;TZID=Europe/Helsinki:20250306T070000
DTEND;TZID=Europe/Helsinki:20250306T141500
DTSTAMP:20260422T111946
CREATED:20240625T133519Z
LAST-MODIFIED:20240805T103044Z
UID:10000482-1741244400-1741270500@fnserviss.lv
SUMMARY:160 stundu kursi "Ugunsdrošība un aizsardzība" grupa Nr.2 -2.diena
DESCRIPTION:Pamatlīmeņu zināšanu programma par objekta ugunsdrošību atbildīgajiem darbiniekiem\, 160 stundu profesionālas pilnveides izglītības programma
URL:https://fnserviss.lv/event/160-stundu-kursi-ugundrosiba-un-aizsardziba-grupa-nr-2-2-diena-2025/
LOCATION:Tiešsaistē\, MS Teams
CATEGORIES:Ugunsdrošības kursi un semināri
ATTACH;FMTTYPE=image/png:https://fnserviss.lv/wp-content/uploads/160h.png
ORGANIZER;CN="M%C4%81c%C4%ABbu centrs 'Dro%C5%A1%C4%ABba'":MAILTO:macibucentrs@fnserviss.lv
END:VEVENT
BEGIN:VEVENT
DTSTART;TZID=Europe/Helsinki:20250306T070000
DTEND;TZID=Europe/Helsinki:20250306T141500
DTSTAMP:20260422T111946
CREATED:20240625T110638Z
LAST-MODIFIED:20240626T080732Z
UID:10000468-1741244400-1741270500@fnserviss.lv
SUMMARY:60 stundu pamatlīmeņa kursi "Darba aizsardzībā" grupa Nr.2-2.diena
DESCRIPTION:Pamatlīmeņa\, jeb 60 stundu\, apmācības laikā speciālisti iegūst zināšanas par būtiskākajiem darba aizsardzības pamatjautājumiem: vispārīgiem darba aizsardzības jautājumiem\, normatīvajiem aktiem\, darba vides risku ietekmi\, novērtēšanu un novēršanu.
URL:https://fnserviss.lv/event/60-stundu-pamatlimena-kursi-darba-aizsardziba-grupa-nr-2-2-diena-2025/
LOCATION:Tiešsaistē\, MS Teams
CATEGORIES:Darba aizsardzības kursi un semināri
ATTACH;FMTTYPE=image/png:https://fnserviss.lv/wp-content/uploads/darba_aizsardziba.png
ORGANIZER;CN="M%C4%81c%C4%ABbu centrs 'Dro%C5%A1%C4%ABba'":MAILTO:macibucentrs@fnserviss.lv
END:VEVENT
BEGIN:VEVENT
DTSTART;TZID=Europe/Helsinki:20250305T070000
DTEND;TZID=Europe/Helsinki:20250305T141500
DTSTAMP:20260422T111946
CREATED:20240625T110100Z
LAST-MODIFIED:20240626T080524Z
UID:10000466-1741158000-1741184100@fnserviss.lv
SUMMARY:60 stundu pamatlīmeņa kursi "Darba aizsardzībā" grupa Nr.2-1.diena
DESCRIPTION:Pamatlīmeņa\, jeb 60 stundu\, apmācības laikā speciālisti iegūst zināšanas par būtiskākajiem darba aizsardzības pamatjautājumiem: vispārīgiem darba aizsardzības jautājumiem\, normatīvajiem aktiem\, darba vides risku ietekmi\, novērtēšanu un novēršanu.
URL:https://fnserviss.lv/event/60-stundu-pamatlimena-kursi-darba-aizsardziba-grupa-nr-2-1-diena-2025/
LOCATION:Tiešsaistē\, MS Teams
CATEGORIES:Darba aizsardzības kursi un semināri
ATTACH;FMTTYPE=image/png:https://fnserviss.lv/wp-content/uploads/darba_aizsardziba.png
ORGANIZER;CN="M%C4%81c%C4%ABbu centrs 'Dro%C5%A1%C4%ABba'":MAILTO:macibucentrs@fnserviss.lv
END:VEVENT
BEGIN:VEVENT
DTSTART;TZID=Europe/Helsinki:20250303T070000
DTEND;TZID=Europe/Helsinki:20250303T141500
DTSTAMP:20260422T111946
CREATED:20240625T133418Z
LAST-MODIFIED:20240626T103507Z
UID:10000481-1740985200-1741011300@fnserviss.lv
SUMMARY:160 stundu kursi "Ugunsdrošība un aizsardzība" grupa Nr.2 -1.diena
DESCRIPTION:Pamatlīmeņu zināšanu programma par objekta ugunsdrošību atbildīgajiem darbiniekiem\, 160 stundu profesionālas pilnveides izglītības programma
URL:https://fnserviss.lv/event/160-stundu-kursi-ugundrosiba-un-aizsardziba-grupa-nr-2-1-diena-2025/
LOCATION:Tiešsaistē\, MS Teams
CATEGORIES:Ugunsdrošības kursi un semināri
ATTACH;FMTTYPE=image/png:https://fnserviss.lv/wp-content/uploads/160h.png
ORGANIZER;CN="M%C4%81c%C4%ABbu centrs 'Dro%C5%A1%C4%ABba'":MAILTO:macibucentrs@fnserviss.lv
END:VEVENT
BEGIN:VEVENT
DTSTART;TZID=Europe/Helsinki:20250220T070000
DTEND;TZID=Europe/Helsinki:20250220T180000
DTSTAMP:20260422T111946
CREATED:20240625T133019Z
LAST-MODIFIED:20240805T102857Z
UID:10000480-1740034800-1740074400@fnserviss.lv
SUMMARY:160 stundu kursi "Ugunsdrošība un aizsardzība" grupa Nr.1 -Noslēguma eksāmens
DESCRIPTION:Pamatlīmeņu zināšanu programma par objekta ugunsdrošību atbildīgajiem darbiniekiem\, 160 stundu profesionālas pilnveides izglītības programma
URL:https://fnserviss.lv/event/160-stundu-kursi-ugundrosiba-un-aizsardziba-grupa-nr-1-nosleguma-eksamens-2025/
LOCATION:Tiešsaistē\, MS Teams
CATEGORIES:Ugunsdrošības kursi un semināri
ATTACH;FMTTYPE=image/png:https://fnserviss.lv/wp-content/uploads/160h.png
ORGANIZER;CN="M%C4%81c%C4%ABbu centrs 'Dro%C5%A1%C4%ABba'":MAILTO:macibucentrs@fnserviss.lv
END:VEVENT
BEGIN:VEVENT
DTSTART;TZID=Europe/Helsinki:20250220T070000
DTEND;TZID=Europe/Helsinki:20250220T141500
DTSTAMP:20260422T111946
CREATED:20241029T101800Z
LAST-MODIFIED:20241030T082549Z
UID:10000247-1740034800-1740060900@fnserviss.lv
SUMMARY:Pirmās palīdzības kursi  12h un 15h - 1.diena
DESCRIPTION: Kursu laikā tiek apgūtas tādas zināšanas kā:  \n \n\n\n Rīcība negadījuma vietā\, piemēram autoavārijā (t.s. cietušā transportēšana);\n Dzīvībai bīstamas asiņošanas apturēšana;\n Rīcība dažādu slimību gadījumā;\n Rīcība slīkšanas\, dažādu traumu\, amputāciju un elektrotraumu gadījumā;\n Rīcība nelaimes gadījumos (ķīmiskās vielas\, traumas no dzīvniekiem\, svešķermeņiem\, ar vairākiem cietušajiem u.c.);\n ABC praktiskais demonstrējums;\n Pirmās palīdzības aptieciņas saturs\, glābēja drošība.\n Un citi saistītie jautājumi.
URL:https://fnserviss.lv/event/pirmas-palidzibas-kursi-12h-15h-1-diena-februaris-2025/
LOCATION:Tiešsaistē\, MS Teams
CATEGORIES:Pirmās palīdzības kursi
ATTACH;FMTTYPE=image/png:https://fnserviss.lv/wp-content/uploads/ikonas_seminariem_002.png
ORGANIZER;CN="M%C4%81c%C4%ABbu centrs 'Dro%C5%A1%C4%ABba'":MAILTO:macibucentrs@fnserviss.lv
END:VEVENT
BEGIN:VEVENT
DTSTART;TZID=Europe/Helsinki:20250206T070000
DTEND;TZID=Europe/Helsinki:20250206T141500
DTSTAMP:20260422T111946
CREATED:20240625T132918Z
LAST-MODIFIED:20240805T102850Z
UID:10000479-1738825200-1738851300@fnserviss.lv
SUMMARY:160 stundu kursi "Ugunsdrošība un aizsardzība" grupa Nr.1 -10.diena
DESCRIPTION:Pamatlīmeņu zināšanu programma par objekta ugunsdrošību atbildīgajiem darbiniekiem\, 160 stundu profesionālas pilnveides izglītības programma
URL:https://fnserviss.lv/event/160-stundu-kursi-ugundrosiba-un-aizsardziba-grupa-nr-1-10-diena-2025/
LOCATION:Tiešsaistē\, MS Teams
CATEGORIES:Ugunsdrošības kursi un semināri
ATTACH;FMTTYPE=image/png:https://fnserviss.lv/wp-content/uploads/160h.png
ORGANIZER;CN="M%C4%81c%C4%ABbu centrs 'Dro%C5%A1%C4%ABba'":MAILTO:macibucentrs@fnserviss.lv
END:VEVENT
BEGIN:VEVENT
DTSTART;TZID=Europe/Helsinki:20250203T070000
DTEND;TZID=Europe/Helsinki:20250203T141500
DTSTAMP:20260422T111946
CREATED:20240625T132811Z
LAST-MODIFIED:20240626T102844Z
UID:10000236-1738566000-1738592100@fnserviss.lv
SUMMARY:160 stundu kursi "Ugunsdrošība un aizsardzība" grupa Nr.1 -9.diena
DESCRIPTION:Pamatlīmeņu zināšanu programma par objekta ugunsdrošību atbildīgajiem darbiniekiem\, 160 stundu profesionālas pilnveides izglītības programma
URL:https://fnserviss.lv/event/160-stundu-kursi-ugundrosiba-un-aizsardziba-grupa-nr-1-9-diena-2025/
LOCATION:Tiešsaistē\, MS Teams
CATEGORIES:Ugunsdrošības kursi un semināri
ATTACH;FMTTYPE=image/png:https://fnserviss.lv/wp-content/uploads/160h.png
ORGANIZER;CN="M%C4%81c%C4%ABbu centrs 'Dro%C5%A1%C4%ABba'":MAILTO:macibucentrs@fnserviss.lv
END:VEVENT
BEGIN:VEVENT
DTSTART;TZID=Europe/Helsinki:20250130T070000
DTEND;TZID=Europe/Helsinki:20250130T180000
DTSTAMP:20260422T111946
CREATED:20240625T110228Z
LAST-MODIFIED:20240626T080356Z
UID:10000467-1738220400-1738260000@fnserviss.lv
SUMMARY:60 stundu pamatlīmeņa kursi "Darba aizsardzībā" grupa Nr.1-Noslēguma eksāmens
DESCRIPTION:Pamatlīmeņa\, jeb 60 stundu\, apmācības laikā speciālisti iegūst zināšanas par būtiskākajiem darba aizsardzības pamatjautājumiem: vispārīgiem darba aizsardzības jautājumiem\, normatīvajiem aktiem\, darba vides risku ietekmi\, novērtēšanu un novēršanu.
URL:https://fnserviss.lv/event/60-stundu-pamatlimena-kursi-darba-aizsardziba-grupa-nr-1-nosleguma-eksamens-2025/
LOCATION:Tiešsaistē\, MS Teams
CATEGORIES:Darba aizsardzības kursi un semināri
ATTACH;FMTTYPE=image/png:https://fnserviss.lv/wp-content/uploads/darba_aizsardziba.png
ORGANIZER;CN="M%C4%81c%C4%ABbu centrs 'Dro%C5%A1%C4%ABba'":MAILTO:macibucentrs@fnserviss.lv
END:VEVENT
BEGIN:VEVENT
DTSTART;TZID=Europe/Helsinki:20250130T070000
DTEND;TZID=Europe/Helsinki:20250130T141500
DTSTAMP:20260422T111946
CREATED:20240625T132135Z
LAST-MODIFIED:20240805T102820Z
UID:10000235-1738220400-1738246500@fnserviss.lv
SUMMARY:160 stundu kursi "Ugunsdrošība un aizsardzība" grupa Nr.1 -8.diena
DESCRIPTION:Pamatlīmeņu zināšanu programma par objekta ugunsdrošību atbildīgajiem darbiniekiem\, 160 stundu profesionālas pilnveides izglītības programma
URL:https://fnserviss.lv/event/160-stundu-kursi-ugundrosiba-un-aizsardziba-grupa-nr-1-8-diena-2025/
LOCATION:Tiešsaistē\, MS Teams
CATEGORIES:Ugunsdrošības kursi un semināri
ATTACH;FMTTYPE=image/png:https://fnserviss.lv/wp-content/uploads/160h.png
ORGANIZER;CN="M%C4%81c%C4%ABbu centrs 'Dro%C5%A1%C4%ABba'":MAILTO:macibucentrs@fnserviss.lv
END:VEVENT
BEGIN:VEVENT
DTSTART;TZID=Europe/Helsinki:20250127T070000
DTEND;TZID=Europe/Helsinki:20250127T141500
DTSTAMP:20260422T111946
CREATED:20240625T132048Z
LAST-MODIFIED:20240626T102118Z
UID:10000234-1737961200-1737987300@fnserviss.lv
SUMMARY:160 stundu kursi "Ugunsdrošība un aizsardzība" grupa Nr.1 -7.diena
DESCRIPTION:Pamatlīmeņu zināšanu programma par objekta ugunsdrošību atbildīgajiem darbiniekiem\, 160 stundu profesionālas pilnveides izglītības programma
URL:https://fnserviss.lv/event/160-stundu-kursi-ugundrosiba-un-aizsardziba-grupa-nr-1-7-diena-2025/
LOCATION:Tiešsaistē\, MS Teams
CATEGORIES:Ugunsdrošības kursi un semināri
ATTACH;FMTTYPE=image/png:https://fnserviss.lv/wp-content/uploads/160h.png
ORGANIZER;CN="M%C4%81c%C4%ABbu centrs 'Dro%C5%A1%C4%ABba'":MAILTO:macibucentrs@fnserviss.lv
END:VEVENT
BEGIN:VEVENT
DTSTART;TZID=Europe/Helsinki:20250123T070000
DTEND;TZID=Europe/Helsinki:20250123T141500
DTSTAMP:20260422T111946
CREATED:20241029T101048Z
LAST-MODIFIED:20241030T081528Z
UID:10000504-1737615600-1737641700@fnserviss.lv
SUMMARY:Pirmās palīdzības kursi  12h un 15h - 1.diena
DESCRIPTION: Kursu laikā tiek apgūtas tādas zināšanas kā:  \n \n\n\n Rīcība negadījuma vietā\, piemēram autoavārijā (t.s. cietušā transportēšana);\n Dzīvībai bīstamas asiņošanas apturēšana;\n Rīcība dažādu slimību gadījumā;\n Rīcība slīkšanas\, dažādu traumu\, amputāciju un elektrotraumu gadījumā;\n Rīcība nelaimes gadījumos (ķīmiskās vielas\, traumas no dzīvniekiem\, svešķermeņiem\, ar vairākiem cietušajiem u.c.);\n ABC praktiskais demonstrējums;\n Pirmās palīdzības aptieciņas saturs\, glābēja drošība.\n Un citi saistītie jautājumi.
URL:https://fnserviss.lv/event/pirmas-palidzibas-kursi-12h-15h-1-diena-janvaris-2025/
LOCATION:Tiešsaistē\, MS Teams
CATEGORIES:Pirmās palīdzības kursi
ATTACH;FMTTYPE=image/png:https://fnserviss.lv/wp-content/uploads/ikonas_seminariem_002.png
ORGANIZER;CN="M%C4%81c%C4%ABbu centrs 'Dro%C5%A1%C4%ABba'":MAILTO:macibucentrs@fnserviss.lv
END:VEVENT
BEGIN:VEVENT
DTSTART;TZID=Europe/Helsinki:20250123T070000
DTEND;TZID=Europe/Helsinki:20250123T141500
DTSTAMP:20260422T111946
CREATED:20240625T131941Z
LAST-MODIFIED:20240805T102757Z
UID:10000232-1737615600-1737641700@fnserviss.lv
SUMMARY:160 stundu kursi "Ugunsdrošība un aizsardzība" grupa Nr.1 -6.diena
DESCRIPTION:Pamatlīmeņu zināšanu programma par objekta ugunsdrošību atbildīgajiem darbiniekiem\, 160 stundu profesionālas pilnveides izglītības programma
URL:https://fnserviss.lv/event/160-stundu-kursi-ugundrosiba-un-aizsardziba-grupa-nr-1-6-diena-2025/
LOCATION:Tiešsaistē\, MS Teams
CATEGORIES:Ugunsdrošības kursi un semināri
ATTACH;FMTTYPE=image/png:https://fnserviss.lv/wp-content/uploads/160h.png
ORGANIZER;CN="M%C4%81c%C4%ABbu centrs 'Dro%C5%A1%C4%ABba'":MAILTO:macibucentrs@fnserviss.lv
END:VEVENT
END:VCALENDAR