BEGIN:VCALENDAR
VERSION:2.0
PRODID:-//FN-Serviss - ECPv6.15.17.1//NONSGML v1.0//EN
CALSCALE:GREGORIAN
METHOD:PUBLISH
X-ORIGINAL-URL:https://fnserviss.lv
X-WR-CALDESC:Events for FN-Serviss
REFRESH-INTERVAL;VALUE=DURATION:PT1H
X-Robots-Tag:noindex
X-PUBLISHED-TTL:PT1H
BEGIN:VTIMEZONE
TZID:Europe/Helsinki
BEGIN:DAYLIGHT
TZOFFSETFROM:+0200
TZOFFSETTO:+0300
TZNAME:EEST
DTSTART:20230326T010000
END:DAYLIGHT
BEGIN:STANDARD
TZOFFSETFROM:+0300
TZOFFSETTO:+0200
TZNAME:EET
DTSTART:20231029T010000
END:STANDARD
BEGIN:DAYLIGHT
TZOFFSETFROM:+0200
TZOFFSETTO:+0300
TZNAME:EEST
DTSTART:20240331T010000
END:DAYLIGHT
BEGIN:STANDARD
TZOFFSETFROM:+0300
TZOFFSETTO:+0200
TZNAME:EET
DTSTART:20241027T010000
END:STANDARD
BEGIN:DAYLIGHT
TZOFFSETFROM:+0200
TZOFFSETTO:+0300
TZNAME:EEST
DTSTART:20250330T010000
END:DAYLIGHT
BEGIN:STANDARD
TZOFFSETFROM:+0300
TZOFFSETTO:+0200
TZNAME:EET
DTSTART:20251026T010000
END:STANDARD
BEGIN:DAYLIGHT
TZOFFSETFROM:+0200
TZOFFSETTO:+0300
TZNAME:EEST
DTSTART:20260329T010000
END:DAYLIGHT
BEGIN:STANDARD
TZOFFSETFROM:+0300
TZOFFSETTO:+0200
TZNAME:EET
DTSTART:20261025T010000
END:STANDARD
END:VTIMEZONE
BEGIN:VEVENT
DTSTART;TZID=Europe/Helsinki:20250116T070000
DTEND;TZID=Europe/Helsinki:20250116T141500
DTSTAMP:20260423T203149
CREATED:20240625T104720Z
LAST-MODIFIED:20240626T074804Z
UID:10000462-1737010800-1737036900@fnserviss.lv
SUMMARY:60 stundu pamatlīmeņa kursi "Darba aizsardzībā" grupa Nr.1-4.diena
DESCRIPTION:Pamatlīmeņa\, jeb 60 stundu\, apmācības laikā speciālisti iegūst zināšanas par būtiskākajiem darba aizsardzības pamatjautājumiem: vispārīgiem darba aizsardzības jautājumiem\, normatīvajiem aktiem\, darba vides risku ietekmi\, novērtēšanu un novēršanu.
URL:https://fnserviss.lv/event/60-stundu-pamatlimena-kursi-darba-aizsardziba-grupa-nr-1-4-diena-2025/
LOCATION:Tiešsaistē\, MS Teams
CATEGORIES:Darba aizsardzības kursi un semināri
ATTACH;FMTTYPE=image/png:https://fnserviss.lv/wp-content/uploads/darba_aizsardziba.png
ORGANIZER;CN="M%C4%81c%C4%ABbu centrs 'Dro%C5%A1%C4%ABba'":MAILTO:macibucentrs@fnserviss.lv
END:VEVENT
BEGIN:VEVENT
DTSTART;TZID=Europe/Helsinki:20250115T070000
DTEND;TZID=Europe/Helsinki:20250115T141500
DTSTAMP:20260423T203149
CREATED:20240625T104321Z
LAST-MODIFIED:20240626T074641Z
UID:10000461-1736924400-1736950500@fnserviss.lv
SUMMARY:60 stundu pamatlīmeņa kursi "Darba aizsardzībā" grupa Nr.1-3.diena
DESCRIPTION:Pamatlīmeņa\, jeb 60 stundu\, apmācības laikā speciālisti iegūst zināšanas par būtiskākajiem darba aizsardzības pamatjautājumiem: vispārīgiem darba aizsardzības jautājumiem\, normatīvajiem aktiem\, darba vides risku ietekmi\, novērtēšanu un novēršanu.
URL:https://fnserviss.lv/event/60-stundu-pamatlimena-kursi-darba-aizsardziba-grupa-nr-1-3-diena-2025/
LOCATION:Tiešsaistē\, MS Teams
CATEGORIES:Darba aizsardzības kursi un semināri
ATTACH;FMTTYPE=image/png:https://fnserviss.lv/wp-content/uploads/darba_aizsardziba.png
ORGANIZER;CN="M%C4%81c%C4%ABbu centrs 'Dro%C5%A1%C4%ABba'":MAILTO:macibucentrs@fnserviss.lv
END:VEVENT
BEGIN:VEVENT
DTSTART;TZID=Europe/Helsinki:20250113T070000
DTEND;TZID=Europe/Helsinki:20250113T141500
DTSTAMP:20260423T203149
CREATED:20240625T131537Z
LAST-MODIFIED:20240805T102710Z
UID:10000225-1736751600-1736777700@fnserviss.lv
SUMMARY:160 stundu kursi "Ugunsdrošība un aizsardzība" grupa Nr.1 -3.diena
DESCRIPTION:Pamatlīmeņu zināšanu programma par objekta ugunsdrošību atbildīgajiem darbiniekiem\, 160 stundu profesionālas pilnveides izglītības programma
URL:https://fnserviss.lv/event/160-stundu-kursi-ugundrosiba-un-aizsardziba-grupa-nr-1-3-diena-2025/
LOCATION:Tiešsaistē\, MS Teams
CATEGORIES:Ugunsdrošības kursi un semināri
ATTACH;FMTTYPE=image/png:https://fnserviss.lv/wp-content/uploads/160h.png
ORGANIZER;CN="M%C4%81c%C4%ABbu centrs 'Dro%C5%A1%C4%ABba'":MAILTO:macibucentrs@fnserviss.lv
END:VEVENT
BEGIN:VEVENT
DTSTART;TZID=Europe/Helsinki:20250109T070000
DTEND;TZID=Europe/Helsinki:20250109T141500
DTSTAMP:20260423T203149
CREATED:20240625T131350Z
LAST-MODIFIED:20240805T102705Z
UID:10000223-1736406000-1736432100@fnserviss.lv
SUMMARY:160 stundu kursi "Ugunsdrošība un aizsardzība" grupa Nr.1 -2.diena
DESCRIPTION:Pamatlīmeņu zināšanu programma par objekta ugunsdrošību atbildīgajiem darbiniekiem\, 160 stundu profesionālas pilnveides izglītības programma
URL:https://fnserviss.lv/event/160-stundu-kursi-ugundrosiba-un-aizsardziba-grupa-nr-1-2-diena-2025/
LOCATION:Tiešsaistē\, MS Teams
CATEGORIES:Ugunsdrošības kursi un semināri
ATTACH;FMTTYPE=image/png:https://fnserviss.lv/wp-content/uploads/160h.png
ORGANIZER;CN="M%C4%81c%C4%ABbu centrs 'Dro%C5%A1%C4%ABba'":MAILTO:macibucentrs@fnserviss.lv
END:VEVENT
BEGIN:VEVENT
DTSTART;TZID=Europe/Helsinki:20250109T070000
DTEND;TZID=Europe/Helsinki:20250109T141500
DTSTAMP:20260423T203149
CREATED:20240625T104130Z
LAST-MODIFIED:20240626T074235Z
UID:10000460-1736406000-1736432100@fnserviss.lv
SUMMARY:60 stundu pamatlīmeņa kursi "Darba aizsardzībā" grupa Nr.1-2.diena
DESCRIPTION:Pamatlīmeņa\, jeb 60 stundu\, apmācības laikā speciālisti iegūst zināšanas par būtiskākajiem darba aizsardzības pamatjautājumiem: vispārīgiem darba aizsardzības jautājumiem\, normatīvajiem aktiem\, darba vides risku ietekmi\, novērtēšanu un novēršanu.
URL:https://fnserviss.lv/event/60-stundu-pamatlimena-kursi-darba-aizsardziba-grupa-nr-1-2-diena-2025/
LOCATION:Tiešsaistē\, MS Teams
CATEGORIES:Darba aizsardzības kursi un semināri
ATTACH;FMTTYPE=image/png:https://fnserviss.lv/wp-content/uploads/darba_aizsardziba.png
ORGANIZER;CN="M%C4%81c%C4%ABbu centrs 'Dro%C5%A1%C4%ABba'":MAILTO:macibucentrs@fnserviss.lv
END:VEVENT
BEGIN:VEVENT
DTSTART;TZID=Europe/Helsinki:20250108T070000
DTEND;TZID=Europe/Helsinki:20250108T141500
DTSTAMP:20260423T203149
CREATED:20240625T102749Z
LAST-MODIFIED:20240626T073407Z
UID:10000459-1736319600-1736345700@fnserviss.lv
SUMMARY:60 stundu pamatlīmeņa kursi "Darba aizsardzībā" grupa Nr.1-1.diena
DESCRIPTION:Pamatlīmeņa\, jeb 60 stundu\, apmācības laikā speciālisti iegūst zināšanas par būtiskākajiem darba aizsardzības pamatjautājumiem: vispārīgiem darba aizsardzības jautājumiem\, normatīvajiem aktiem\, darba vides risku ietekmi\, novērtēšanu un novēršanu.
URL:https://fnserviss.lv/event/60-stundu-pamatlimena-kursi-darba-aizsardziba-grupa-nr-1-1-diena-2025/
LOCATION:Tiešsaistē\, MS Teams
CATEGORIES:Darba aizsardzības kursi un semināri
ATTACH;FMTTYPE=image/png:https://fnserviss.lv/wp-content/uploads/darba_aizsardziba.png
ORGANIZER;CN="M%C4%81c%C4%ABbu centrs 'Dro%C5%A1%C4%ABba'":MAILTO:macibucentrs@fnserviss.lv
END:VEVENT
BEGIN:VEVENT
DTSTART;TZID=Europe/Helsinki:20250106T070000
DTEND;TZID=Europe/Helsinki:20250106T141500
DTSTAMP:20260423T203149
CREATED:20240625T131147Z
LAST-MODIFIED:20240805T102640Z
UID:10000221-1736146800-1736172900@fnserviss.lv
SUMMARY:160 stundu kursi "Ugunsdrošība un aizsardzība" grupa Nr.1 -1.diena
DESCRIPTION:Pamatlīmeņu zināšanu programma par objekta ugunsdrošību atbildīgajiem darbiniekiem\, 160 stundu profesionālas pilnveides izglītības programma
URL:https://fnserviss.lv/event/160-stundu-kursi-ugundrosiba-un-aizsardziba-grupa-nr-1-1-diena-2025/
LOCATION:Tiešsaistē\, MS Teams
CATEGORIES:Ugunsdrošības kursi un semināri
ATTACH;FMTTYPE=image/png:https://fnserviss.lv/wp-content/uploads/160h.png
ORGANIZER;CN="M%C4%81c%C4%ABbu centrs 'Dro%C5%A1%C4%ABba'":MAILTO:macibucentrs@fnserviss.lv
END:VEVENT
BEGIN:VEVENT
DTSTART;TZID=Europe/Helsinki:20241219T070000
DTEND;TZID=Europe/Helsinki:20241219T141500
DTSTAMP:20260423T203149
CREATED:20240508T080332Z
LAST-MODIFIED:20240509T050357Z
UID:10000457-1734591600-1734617700@fnserviss.lv
SUMMARY:Pirmās palīdzības kursi  12h un 15h - 1.diena
DESCRIPTION: Kursu laikā tiek apgūtas tādas zināšanas kā:  \n \n\n\n Rīcība negadījuma vietā\, piemēram autoavārijā (t.s. cietušā transportēšana);\n Dzīvībai bīstamas asiņošanas apturēšana;\n Rīcība dažādu slimību gadījumā;\n Rīcība slīkšanas\, dažādu traumu\, amputāciju un elektrotraumu gadījumā;\n Rīcība nelaimes gadījumos (ķīmiskās vielas\, traumas no dzīvniekiem\, svešķermeņiem\, ar vairākiem cietušajiem u.c.);\n ABC praktiskais demonstrējums;\n Pirmās palīdzības aptieciņas saturs\, glābēja drošība.\n Un citi saistītie jautājumi.
URL:https://fnserviss.lv/event/pirmas-palidzibas-kursi-12h-15h-1-diena-decembris-2024/
LOCATION:Tiešsaistē\, MS Teams
CATEGORIES:Pirmās palīdzības kursi
ATTACH;FMTTYPE=image/png:https://fnserviss.lv/wp-content/uploads/ikonas_seminariem_002.png
ORGANIZER;CN="M%C4%81c%C4%ABbu centrs 'Dro%C5%A1%C4%ABba'":MAILTO:macibucentrs@fnserviss.lv
END:VEVENT
BEGIN:VEVENT
DTSTART;TZID=Europe/Helsinki:20241121T070000
DTEND;TZID=Europe/Helsinki:20241121T141500
DTSTAMP:20260423T203149
CREATED:20240508T080222Z
LAST-MODIFIED:20240509T050251Z
UID:10000213-1732172400-1732198500@fnserviss.lv
SUMMARY:Pirmās palīdzības kursi  12h un 15h - 1.diena
DESCRIPTION: Kursu laikā tiek apgūtas tādas zināšanas kā:  \n \n\n\n Rīcība negadījuma vietā\, piemēram autoavārijā (t.s. cietušā transportēšana);\n Dzīvībai bīstamas asiņošanas apturēšana;\n Rīcība dažādu slimību gadījumā;\n Rīcība slīkšanas\, dažādu traumu\, amputāciju un elektrotraumu gadījumā;\n Rīcība nelaimes gadījumos (ķīmiskās vielas\, traumas no dzīvniekiem\, svešķermeņiem\, ar vairākiem cietušajiem u.c.);\n ABC praktiskais demonstrējums;\n Pirmās palīdzības aptieciņas saturs\, glābēja drošība.\n Un citi saistītie jautājumi.
URL:https://fnserviss.lv/event/pirmas-palidzibas-kursi-12h-15h-1-diena-novembris-2024/
LOCATION:Tiešsaistē\, MS Teams
CATEGORIES:Pirmās palīdzības kursi
ATTACH;FMTTYPE=image/png:https://fnserviss.lv/wp-content/uploads/ikonas_seminariem_002.png
ORGANIZER;CN="M%C4%81c%C4%ABbu centrs 'Dro%C5%A1%C4%ABba'":MAILTO:macibucentrs@fnserviss.lv
END:VEVENT
BEGIN:VEVENT
DTSTART;TZID=Europe/Helsinki:20241023T060000
DTEND;TZID=Europe/Helsinki:20241023T131500
DTSTAMP:20260423T203149
CREATED:20240508T080055Z
LAST-MODIFIED:20240918T092319Z
UID:10000210-1729663200-1729689300@fnserviss.lv
SUMMARY:Pirmās palīdzības kursi  12h un 15h - 1.diena
DESCRIPTION: Kursu laikā tiek apgūtas tādas zināšanas kā:  \n \n\n\n Rīcība negadījuma vietā\, piemēram autoavārijā (t.s. cietušā transportēšana);\n Dzīvībai bīstamas asiņošanas apturēšana;\n Rīcība dažādu slimību gadījumā;\n Rīcība slīkšanas\, dažādu traumu\, amputāciju un elektrotraumu gadījumā;\n Rīcība nelaimes gadījumos (ķīmiskās vielas\, traumas no dzīvniekiem\, svešķermeņiem\, ar vairākiem cietušajiem u.c.);\n ABC praktiskais demonstrējums;\n Pirmās palīdzības aptieciņas saturs\, glābēja drošība.\n Un citi saistītie jautājumi.
URL:https://fnserviss.lv/event/pirmas-palidzibas-kursi-12h-15h-1-diena-oktobris-2024/
LOCATION:Tiešsaistē\, MS Teams
CATEGORIES:Pirmās palīdzības kursi
ATTACH;FMTTYPE=image/png:https://fnserviss.lv/wp-content/uploads/ikonas_seminariem_002.png
ORGANIZER;CN="M%C4%81c%C4%ABbu centrs 'Dro%C5%A1%C4%ABba'":MAILTO:macibucentrs@fnserviss.lv
END:VEVENT
BEGIN:VEVENT
DTSTART;TZID=Europe/Helsinki:20241017T060000
DTEND;TZID=Europe/Helsinki:20241017T170000
DTSTAMP:20260423T203149
CREATED:20240804T130254Z
LAST-MODIFIED:20240805T101939Z
UID:10000500-1729144800-1729184400@fnserviss.lv
SUMMARY:160 stundu kursi "Ugunsdrošība un aizsardzība" grupa Nr.5 -Noslēguma eksāmens
DESCRIPTION:Pamatlīmeņu zināšanu programma par objekta ugunsdrošību atbildīgajiem darbiniekiem\, 160 stundu profesionālas pilnveides izglītības programma
URL:https://fnserviss.lv/event/160-stundu-kursi-ugundrosiba-un-aizsardziba-grupa-nr-5-nosleguma-eksamens-2024/
LOCATION:Tiešsaistē\, MS Teams
CATEGORIES:Ugunsdrošības kursi un semināri
ATTACH;FMTTYPE=image/png:https://fnserviss.lv/wp-content/uploads/160h.png
ORGANIZER;CN="M%C4%81c%C4%ABbu centrs 'Dro%C5%A1%C4%ABba'":MAILTO:macibucentrs@fnserviss.lv
END:VEVENT
BEGIN:VEVENT
DTSTART;TZID=Europe/Helsinki:20241003T060000
DTEND;TZID=Europe/Helsinki:20241003T131500
DTSTAMP:20260423T203149
CREATED:20240804T130305Z
LAST-MODIFIED:20240805T101801Z
UID:10000501-1727935200-1727961300@fnserviss.lv
SUMMARY:160 stundu kursi "Ugunsdrošība un aizsardzība" grupa Nr.5 -10.diena
DESCRIPTION:Pamatlīmeņu zināšanu programma par objekta ugunsdrošību atbildīgajiem darbiniekiem\, 160 stundu profesionālas pilnveides izglītības programma
URL:https://fnserviss.lv/event/160-stundu-kursi-ugundrosiba-un-aizsardziba-grupa-nr-5-10-diena-2024/
LOCATION:Tiešsaistē\, MS Teams
CATEGORIES:Ugunsdrošības kursi un semināri
ATTACH;FMTTYPE=image/png:https://fnserviss.lv/wp-content/uploads/160h.png
ORGANIZER;CN="M%C4%81c%C4%ABbu centrs 'Dro%C5%A1%C4%ABba'":MAILTO:macibucentrs@fnserviss.lv
END:VEVENT
BEGIN:VEVENT
DTSTART;TZID=Europe/Helsinki:20240930T060000
DTEND;TZID=Europe/Helsinki:20240930T131500
DTSTAMP:20260423T203149
CREATED:20240804T130321Z
LAST-MODIFIED:20240805T101640Z
UID:10000502-1727676000-1727702100@fnserviss.lv
SUMMARY:160 stundu kursi "Ugunsdrošība un aizsardzība" grupa Nr.5 -9.diena
DESCRIPTION:Pamatlīmeņu zināšanu programma par objekta ugunsdrošību atbildīgajiem darbiniekiem\, 160 stundu profesionālas pilnveides izglītības programma
URL:https://fnserviss.lv/event/160-stundu-kursi-ugundrosiba-un-aizsardziba-grupa-nr-5-9-diena-2024/
LOCATION:Tiešsaistē\, MS Teams
CATEGORIES:Ugunsdrošības kursi un semināri
ATTACH;FMTTYPE=image/png:https://fnserviss.lv/wp-content/uploads/160h.png
ORGANIZER;CN="M%C4%81c%C4%ABbu centrs 'Dro%C5%A1%C4%ABba'":MAILTO:macibucentrs@fnserviss.lv
END:VEVENT
BEGIN:VEVENT
DTSTART;TZID=Europe/Helsinki:20240926T060000
DTEND;TZID=Europe/Helsinki:20240926T131500
DTSTAMP:20260423T203149
CREATED:20240804T130336Z
LAST-MODIFIED:20240805T102236Z
UID:10000503-1727330400-1727356500@fnserviss.lv
SUMMARY:160 stundu kursi "Ugunsdrošība un aizsardzība" grupa Nr.5 -8.diena
DESCRIPTION:Pamatlīmeņu zināšanu programma par objekta ugunsdrošību atbildīgajiem darbiniekiem\, 160 stundu profesionālas pilnveides izglītības programma
URL:https://fnserviss.lv/event/160-stundu-kursi-ugundrosiba-un-aizsardziba-grupa-nr-5-8-diena-2024/
LOCATION:Tiešsaistē\, MS Teams
CATEGORIES:Ugunsdrošības kursi un semināri
ATTACH;FMTTYPE=image/png:https://fnserviss.lv/wp-content/uploads/160h.png
ORGANIZER;CN="M%C4%81c%C4%ABbu centrs 'Dro%C5%A1%C4%ABba'":MAILTO:macibucentrs@fnserviss.lv
END:VEVENT
BEGIN:VEVENT
DTSTART;TZID=Europe/Helsinki:20240926T060000
DTEND;TZID=Europe/Helsinki:20240926T131500
DTSTAMP:20260423T203149
CREATED:20240508T075937Z
LAST-MODIFIED:20240509T050007Z
UID:10000208-1727330400-1727356500@fnserviss.lv
SUMMARY:Pirmās palīdzības kursi  12h un 15h - 1.diena
DESCRIPTION: Kursu laikā tiek apgūtas tādas zināšanas kā:  \n \n\n\n Rīcība negadījuma vietā\, piemēram autoavārijā (t.s. cietušā transportēšana);\n Dzīvībai bīstamas asiņošanas apturēšana;\n Rīcība dažādu slimību gadījumā;\n Rīcība slīkšanas\, dažādu traumu\, amputāciju un elektrotraumu gadījumā;\n Rīcība nelaimes gadījumos (ķīmiskās vielas\, traumas no dzīvniekiem\, svešķermeņiem\, ar vairākiem cietušajiem u.c.);\n ABC praktiskais demonstrējums;\n Pirmās palīdzības aptieciņas saturs\, glābēja drošība.\n Un citi saistītie jautājumi.
URL:https://fnserviss.lv/event/pirmas-palidzibas-kursi-12h-15h-1-diena-septembris-2024/
LOCATION:Tiešsaistē\, MS Teams
CATEGORIES:Pirmās palīdzības kursi
ATTACH;FMTTYPE=image/png:https://fnserviss.lv/wp-content/uploads/ikonas_seminariem_002.png
ORGANIZER;CN="M%C4%81c%C4%ABbu centrs 'Dro%C5%A1%C4%ABba'":MAILTO:macibucentrs@fnserviss.lv
END:VEVENT
BEGIN:VEVENT
DTSTART;TZID=Europe/Helsinki:20240923T060000
DTEND;TZID=Europe/Helsinki:20240923T131500
DTSTAMP:20260423T203149
CREATED:20240804T130351Z
LAST-MODIFIED:20240805T101511Z
UID:10000499-1727071200-1727097300@fnserviss.lv
SUMMARY:160 stundu kursi "Ugunsdrošība un aizsardzība" grupa Nr.5 -7.diena
DESCRIPTION:Pamatlīmeņu zināšanu programma par objekta ugunsdrošību atbildīgajiem darbiniekiem\, 160 stundu profesionālas pilnveides izglītības programma
URL:https://fnserviss.lv/event/160-stundu-kursi-ugundrosiba-un-aizsardziba-grupa-nr-5-7-diena-2024/
LOCATION:Tiešsaistē\, MS Teams
CATEGORIES:Ugunsdrošības kursi un semināri
ATTACH;FMTTYPE=image/png:https://fnserviss.lv/wp-content/uploads/160h.png
ORGANIZER;CN="M%C4%81c%C4%ABbu centrs 'Dro%C5%A1%C4%ABba'":MAILTO:macibucentrs@fnserviss.lv
END:VEVENT
BEGIN:VEVENT
DTSTART;TZID=Europe/Helsinki:20240919T060000
DTEND;TZID=Europe/Helsinki:20240919T131500
DTSTAMP:20260423T203149
CREATED:20240804T130402Z
LAST-MODIFIED:20240805T101350Z
UID:10000246-1726725600-1726751700@fnserviss.lv
SUMMARY:160 stundu kursi "Ugunsdrošība un aizsardzība" grupa Nr.5 -6.diena
DESCRIPTION:Pamatlīmeņu zināšanu programma par objekta ugunsdrošību atbildīgajiem darbiniekiem\, 160 stundu profesionālas pilnveides izglītības programma
URL:https://fnserviss.lv/event/160-stundu-kursi-ugundrosiba-un-aizsardziba-grupa-nr-5-6-diena-2024/
LOCATION:Tiešsaistē\, MS Teams
CATEGORIES:Ugunsdrošības kursi un semināri
ATTACH;FMTTYPE=image/png:https://fnserviss.lv/wp-content/uploads/160h.png
ORGANIZER;CN="M%C4%81c%C4%ABbu centrs 'Dro%C5%A1%C4%ABba'":MAILTO:macibucentrs@fnserviss.lv
END:VEVENT
BEGIN:VEVENT
DTSTART;TZID=Europe/Helsinki:20240916T060000
DTEND;TZID=Europe/Helsinki:20240916T131500
DTSTAMP:20260423T203149
CREATED:20240804T130414Z
LAST-MODIFIED:20240805T101303Z
UID:10000496-1726466400-1726492500@fnserviss.lv
SUMMARY:160 stundu kursi "Ugunsdrošība un aizsardzība" grupa Nr.5 -5.diena
DESCRIPTION:Pamatlīmeņu zināšanu programma par objekta ugunsdrošību atbildīgajiem darbiniekiem\, 160 stundu profesionālas pilnveides izglītības programma
URL:https://fnserviss.lv/event/160-stundu-kursi-ugundrosiba-un-aizsardziba-grupa-nr-5-5-diena-2024/
LOCATION:Tiešsaistē\, MS Teams
CATEGORIES:Ugunsdrošības kursi un semināri
ATTACH;FMTTYPE=image/png:https://fnserviss.lv/wp-content/uploads/160h.png
ORGANIZER;CN="M%C4%81c%C4%ABbu centrs 'Dro%C5%A1%C4%ABba'":MAILTO:macibucentrs@fnserviss.lv
END:VEVENT
BEGIN:VEVENT
DTSTART;TZID=Europe/Helsinki:20240912T060000
DTEND;TZID=Europe/Helsinki:20240912T131500
DTSTAMP:20260423T203149
CREATED:20240804T130433Z
LAST-MODIFIED:20240805T101217Z
UID:10000497-1726120800-1726146900@fnserviss.lv
SUMMARY:160 stundu kursi "Ugunsdrošība un aizsardzība" grupa Nr.5 -4.diena
DESCRIPTION:Pamatlīmeņu zināšanu programma par objekta ugunsdrošību atbildīgajiem darbiniekiem\, 160 stundu profesionālas pilnveides izglītības programma
URL:https://fnserviss.lv/event/160-stundu-kursi-ugundrosiba-un-aizsardziba-grupa-nr-5-4-diena-2024/
LOCATION:Tiešsaistē\, MS Teams
CATEGORIES:Ugunsdrošības kursi un semināri
ATTACH;FMTTYPE=image/png:https://fnserviss.lv/wp-content/uploads/160h.png
ORGANIZER;CN="M%C4%81c%C4%ABbu centrs 'Dro%C5%A1%C4%ABba'":MAILTO:macibucentrs@fnserviss.lv
END:VEVENT
BEGIN:VEVENT
DTSTART;TZID=Europe/Helsinki:20240909T060000
DTEND;TZID=Europe/Helsinki:20240909T131500
DTSTAMP:20260423T203149
CREATED:20240804T130451Z
LAST-MODIFIED:20240805T102244Z
UID:10000498-1725861600-1725887700@fnserviss.lv
SUMMARY:160 stundu kursi "Ugunsdrošība un aizsardzība" grupa Nr.5 -3.diena
DESCRIPTION:Pamatlīmeņu zināšanu programma par objekta ugunsdrošību atbildīgajiem darbiniekiem\, 160 stundu profesionālas pilnveides izglītības programma
URL:https://fnserviss.lv/event/160-stundu-kursi-ugundrosiba-un-aizsardziba-grupa-nr-5-3-diena-2024/
LOCATION:Tiešsaistē\, MS Teams
CATEGORIES:Ugunsdrošības kursi un semināri
ATTACH;FMTTYPE=image/png:https://fnserviss.lv/wp-content/uploads/160h.png
ORGANIZER;CN="M%C4%81c%C4%ABbu centrs 'Dro%C5%A1%C4%ABba'":MAILTO:macibucentrs@fnserviss.lv
END:VEVENT
BEGIN:VEVENT
DTSTART;TZID=Europe/Helsinki:20240905T060000
DTEND;TZID=Europe/Helsinki:20240905T131500
DTSTAMP:20260423T203149
CREATED:20240804T130532Z
LAST-MODIFIED:20240805T102212Z
UID:10000244-1725516000-1725542100@fnserviss.lv
SUMMARY:160 stundu kursi "Ugunsdrošība un aizsardzība" grupa Nr.5 -2.diena
DESCRIPTION:Pamatlīmeņu zināšanu programma par objekta ugunsdrošību atbildīgajiem darbiniekiem\, 160 stundu profesionālas pilnveides izglītības programma
URL:https://fnserviss.lv/event/160-stundu-kursi-ugundrosiba-un-aizsardziba-grupa-nr-5-2-diena-2024/
LOCATION:Tiešsaistē\, MS Teams
CATEGORIES:Ugunsdrošības kursi un semināri
ATTACH;FMTTYPE=image/png:https://fnserviss.lv/wp-content/uploads/160h.png
ORGANIZER;CN="M%C4%81c%C4%ABbu centrs 'Dro%C5%A1%C4%ABba'":MAILTO:macibucentrs@fnserviss.lv
END:VEVENT
BEGIN:VEVENT
DTSTART;TZID=Europe/Helsinki:20240902T060000
DTEND;TZID=Europe/Helsinki:20240902T131500
DTSTAMP:20260423T203149
CREATED:20240804T130551Z
LAST-MODIFIED:20240805T102220Z
UID:10000245-1725256800-1725282900@fnserviss.lv
SUMMARY:160 stundu kursi "Ugunsdrošība un aizsardzība" grupa Nr.5 -1.diena
DESCRIPTION:Pamatlīmeņu zināšanu programma par objekta ugunsdrošību atbildīgajiem darbiniekiem\, 160 stundu profesionālas pilnveides izglītības programma
URL:https://fnserviss.lv/event/160-stundu-kursi-ugundrosiba-un-aizsardziba-grupa-nr-5-1-diena/
LOCATION:Tiešsaistē\, MS Teams
CATEGORIES:Ugunsdrošības kursi un semināri
ATTACH;FMTTYPE=image/png:https://fnserviss.lv/wp-content/uploads/160h.png
ORGANIZER;CN="M%C4%81c%C4%ABbu centrs 'Dro%C5%A1%C4%ABba'":MAILTO:macibucentrs@fnserviss.lv
END:VEVENT
BEGIN:VEVENT
DTSTART;TZID=Europe/Helsinki:20240829T060000
DTEND;TZID=Europe/Helsinki:20240829T131500
DTSTAMP:20260423T203149
CREATED:20240508T075825Z
LAST-MODIFIED:20240509T045853Z
UID:10000204-1724911200-1724937300@fnserviss.lv
SUMMARY:Pirmās palīdzības kursi  12h un 15h - 1.diena
DESCRIPTION: Kursu laikā tiek apgūtas tādas zināšanas kā:  \n \n\n\n Rīcība negadījuma vietā\, piemēram autoavārijā (t.s. cietušā transportēšana);\n Dzīvībai bīstamas asiņošanas apturēšana;\n Rīcība dažādu slimību gadījumā;\n Rīcība slīkšanas\, dažādu traumu\, amputāciju un elektrotraumu gadījumā;\n Rīcība nelaimes gadījumos (ķīmiskās vielas\, traumas no dzīvniekiem\, svešķermeņiem\, ar vairākiem cietušajiem u.c.);\n ABC praktiskais demonstrējums;\n Pirmās palīdzības aptieciņas saturs\, glābēja drošība.\n Un citi saistītie jautājumi.
URL:https://fnserviss.lv/event/pirmas-palidzibas-kursi-12h-15h-1-diena-augusts-2024/
LOCATION:Tiešsaistē\, MS Teams
CATEGORIES:Pirmās palīdzības kursi
ATTACH;FMTTYPE=image/png:https://fnserviss.lv/wp-content/uploads/ikonas_seminariem_002.png
ORGANIZER;CN="M%C4%81c%C4%ABbu centrs 'Dro%C5%A1%C4%ABba'":MAILTO:macibucentrs@fnserviss.lv
END:VEVENT
BEGIN:VEVENT
DTSTART;TZID=Europe/Helsinki:20240725T060000
DTEND;TZID=Europe/Helsinki:20240725T131500
DTSTAMP:20260423T203149
CREATED:20240508T075638Z
LAST-MODIFIED:20240509T045735Z
UID:10000199-1721887200-1721913300@fnserviss.lv
SUMMARY:Pirmās palīdzības kursi  12h un 15h - 1.diena
DESCRIPTION: Kursu laikā tiek apgūtas tādas zināšanas kā:  \n \n\n\n Rīcība negadījuma vietā\, piemēram autoavārijā (t.s. cietušā transportēšana);\n Dzīvībai bīstamas asiņošanas apturēšana;\n Rīcība dažādu slimību gadījumā;\n Rīcība slīkšanas\, dažādu traumu\, amputāciju un elektrotraumu gadījumā;\n Rīcība nelaimes gadījumos (ķīmiskās vielas\, traumas no dzīvniekiem\, svešķermeņiem\, ar vairākiem cietušajiem u.c.);\n ABC praktiskais demonstrējums;\n Pirmās palīdzības aptieciņas saturs\, glābēja drošība.\n Un citi saistītie jautājumi.
URL:https://fnserviss.lv/event/pirmas-palidzibas-kursi-12h-15h-1-diena-julijs-2024/
LOCATION:Tiešsaistē\, MS Teams
CATEGORIES:Pirmās palīdzības kursi
ATTACH;FMTTYPE=image/png:https://fnserviss.lv/wp-content/uploads/ikonas_seminariem_002.png
ORGANIZER;CN="M%C4%81c%C4%ABbu centrs 'Dro%C5%A1%C4%ABba'":MAILTO:macibucentrs@fnserviss.lv
END:VEVENT
BEGIN:VEVENT
DTSTART;TZID=Europe/Helsinki:20240627T060000
DTEND;TZID=Europe/Helsinki:20240627T131500
DTSTAMP:20260423T203149
CREATED:20240228T120143Z
LAST-MODIFIED:20240229T100226Z
UID:10000437-1719468000-1719494100@fnserviss.lv
SUMMARY:Pirmās palīdzības kursi  12h un 15h - 1.diena
DESCRIPTION: Kursu laikā tiek apgūtas tādas zināšanas kā:  \n \n\n\n Rīcība negadījuma vietā\, piemēram autoavārijā (t.s. cietušā transportēšana);\n Dzīvībai bīstamas asiņošanas apturēšana;\n Rīcība dažādu slimību gadījumā;\n Rīcība slīkšanas\, dažādu traumu\, amputāciju un elektrotraumu gadījumā;\n Rīcība nelaimes gadījumos (ķīmiskās vielas\, traumas no dzīvniekiem\, svešķermeņiem\, ar vairākiem cietušajiem u.c.);\n ABC praktiskais demonstrējums;\n Pirmās palīdzības aptieciņas saturs\, glābēja drošība.\n Un citi saistītie jautājumi.
URL:https://fnserviss.lv/event/pirmas-palidzibas-kursi-12h-15h-1-diena-junijs-2024/
LOCATION:Tiešsaistē\, MS Teams
CATEGORIES:Pirmās palīdzības kursi
ATTACH;FMTTYPE=image/png:https://fnserviss.lv/wp-content/uploads/ikonas_seminariem_002.png
ORGANIZER;CN="M%C4%81c%C4%ABbu centrs 'Dro%C5%A1%C4%ABba'":MAILTO:macibucentrs@fnserviss.lv
END:VEVENT
BEGIN:VEVENT
DTSTART;TZID=Europe/Helsinki:20240611T060000
DTEND;TZID=Europe/Helsinki:20240611T170000
DTSTAMP:20260423T203149
CREATED:20240417T125952Z
LAST-MODIFIED:20240418T100019Z
UID:10000456-1718085600-1718125200@fnserviss.lv
SUMMARY:160 stundu kursi "Ugunsdrošība un aizsardzība" grupa Nr.3 -Noslēguma eksāmens
DESCRIPTION:Pamatlīmeņu zināšanu programma par objekta ugunsdrošību atbildīgajiem darbiniekiem\, 160 stundu profesionālas pilnveides izglītības programma
URL:https://fnserviss.lv/event/160-stundu-kursi-ugundrosiba-un-aizsardziba-grupa-nr-2-nosleguma-eksamens-2024-copy/
LOCATION:Tiešsaistē\, MS Teams
CATEGORIES:Ugunsdrošības kursi un semināri
ATTACH;FMTTYPE=image/png:https://fnserviss.lv/wp-content/uploads/160h.png
ORGANIZER;CN="M%C4%81c%C4%ABbu centrs 'Dro%C5%A1%C4%ABba'":MAILTO:macibucentrs@fnserviss.lv
END:VEVENT
BEGIN:VEVENT
DTSTART;TZID=Europe/Helsinki:20240530T060000
DTEND;TZID=Europe/Helsinki:20240530T170000
DTSTAMP:20260423T203149
CREATED:20240417T125026Z
LAST-MODIFIED:20240418T095648Z
UID:10000449-1717048800-1717088400@fnserviss.lv
SUMMARY:60 stundu pamatlīmeņa kursi "Darba aizsardzībā" grupa Nr.3-Noslēguma eksāmens
DESCRIPTION:Pamatlīmeņa\, jeb 60 stundu\, apmācības laikā speciālisti iegūst zināšanas par būtiskākajiem darba aizsardzības pamatjautājumiem: vispārīgiem darba aizsardzības jautājumiem\, normatīvajiem aktiem\, darba vides risku ietekmi\, novērtēšanu un novēršanu.
URL:https://fnserviss.lv/event/60-stundu-pamatlimena-kursi-darba-aizsardziba-grupa-nr-2-nosleguma-eksamens-2024-copy/
LOCATION:Tiešsaistē\, MS Teams
CATEGORIES:Darba aizsardzības kursi un semināri
ATTACH;FMTTYPE=image/png:https://fnserviss.lv/wp-content/uploads/darba_aizsardziba.png
ORGANIZER;CN="M%C4%81c%C4%ABbu centrs 'Dro%C5%A1%C4%ABba'":MAILTO:macibucentrs@fnserviss.lv
END:VEVENT
BEGIN:VEVENT
DTSTART;TZID=Europe/Helsinki:20240530T060000
DTEND;TZID=Europe/Helsinki:20240530T131500
DTSTAMP:20260423T203149
CREATED:20240228T120017Z
LAST-MODIFIED:20240229T100057Z
UID:10000195-1717048800-1717074900@fnserviss.lv
SUMMARY:Pirmās palīdzības kursi  12h un 15h - 1.diena
DESCRIPTION: Kursu laikā tiek apgūtas tādas zināšanas kā:  \n \n\n\n Rīcība negadījuma vietā\, piemēram autoavārijā (t.s. cietušā transportēšana);\n Dzīvībai bīstamas asiņošanas apturēšana;\n Rīcība dažādu slimību gadījumā;\n Rīcība slīkšanas\, dažādu traumu\, amputāciju un elektrotraumu gadījumā;\n Rīcība nelaimes gadījumos (ķīmiskās vielas\, traumas no dzīvniekiem\, svešķermeņiem\, ar vairākiem cietušajiem u.c.);\n ABC praktiskais demonstrējums;\n Pirmās palīdzības aptieciņas saturs\, glābēja drošība.\n Un citi saistītie jautājumi.
URL:https://fnserviss.lv/event/pirmas-palidzibas-kursi-12h-15h-1-diena-maijs-2024/
LOCATION:Tiešsaistē\, MS Teams
CATEGORIES:Pirmās palīdzības kursi
ATTACH;FMTTYPE=image/png:https://fnserviss.lv/wp-content/uploads/ikonas_seminariem_002.png
ORGANIZER;CN="M%C4%81c%C4%ABbu centrs 'Dro%C5%A1%C4%ABba'":MAILTO:macibucentrs@fnserviss.lv
END:VEVENT
BEGIN:VEVENT
DTSTART;TZID=Europe/Helsinki:20240528T060000
DTEND;TZID=Europe/Helsinki:20240528T131500
DTSTAMP:20260423T203149
CREATED:20240417T124956Z
LAST-MODIFIED:20240418T095015Z
UID:10000448-1716876000-1716902100@fnserviss.lv
SUMMARY:160 stundu kursi "Ugunsdrošība un aizsardzība" grupa Nr.3 -10.diena
DESCRIPTION:Pamatlīmeņu zināšanu programma par objekta ugunsdrošību atbildīgajiem darbiniekiem\, 160 stundu profesionālas pilnveides izglītības programma
URL:https://fnserviss.lv/event/160-stundu-kursi-ugundrosiba-un-aizsardziba-grupa-nr-2-1-diena-2024-copy-copy-copy-copy-copy-copy-copy-copy-copy-copy/
LOCATION:Tiešsaistē\, MS Teams
CATEGORIES:Ugunsdrošības kursi un semināri
ATTACH;FMTTYPE=image/png:https://fnserviss.lv/wp-content/uploads/160h.png
ORGANIZER;CN="M%C4%81c%C4%ABbu centrs 'Dro%C5%A1%C4%ABba'":MAILTO:macibucentrs@fnserviss.lv
END:VEVENT
BEGIN:VEVENT
DTSTART;TZID=Europe/Helsinki:20240527T060000
DTEND;TZID=Europe/Helsinki:20240527T131500
DTSTAMP:20260423T203149
CREATED:20240417T124927Z
LAST-MODIFIED:20240418T094950Z
UID:10000447-1716789600-1716815700@fnserviss.lv
SUMMARY:160 stundu kursi "Ugunsdrošība un aizsardzība" grupa Nr.3 -9.diena
DESCRIPTION:Pamatlīmeņu zināšanu programma par objekta ugunsdrošību atbildīgajiem darbiniekiem\, 160 stundu profesionālas pilnveides izglītības programma
URL:https://fnserviss.lv/event/160-stundu-kursi-ugundrosiba-un-aizsardziba-grupa-nr-2-1-diena-2024-copy-copy-copy-copy-copy-copy-copy-copy-copy/
LOCATION:Tiešsaistē\, MS Teams
CATEGORIES:Ugunsdrošības kursi un semināri
ATTACH;FMTTYPE=image/png:https://fnserviss.lv/wp-content/uploads/160h.png
ORGANIZER;CN="M%C4%81c%C4%ABbu centrs 'Dro%C5%A1%C4%ABba'":MAILTO:macibucentrs@fnserviss.lv
END:VEVENT
END:VCALENDAR