BEGIN:VCALENDAR
VERSION:2.0
PRODID:-//FN-Serviss - ECPv6.15.17.1//NONSGML v1.0//EN
CALSCALE:GREGORIAN
METHOD:PUBLISH
X-ORIGINAL-URL:https://fnserviss.lv
X-WR-CALDESC:Events for FN-Serviss
REFRESH-INTERVAL;VALUE=DURATION:PT1H
X-Robots-Tag:noindex
X-PUBLISHED-TTL:PT1H
BEGIN:VTIMEZONE
TZID:Europe/Helsinki
BEGIN:DAYLIGHT
TZOFFSETFROM:+0200
TZOFFSETTO:+0300
TZNAME:EEST
DTSTART:20240331T010000
END:DAYLIGHT
BEGIN:STANDARD
TZOFFSETFROM:+0300
TZOFFSETTO:+0200
TZNAME:EET
DTSTART:20241027T010000
END:STANDARD
BEGIN:DAYLIGHT
TZOFFSETFROM:+0200
TZOFFSETTO:+0300
TZNAME:EEST
DTSTART:20250330T010000
END:DAYLIGHT
BEGIN:STANDARD
TZOFFSETFROM:+0300
TZOFFSETTO:+0200
TZNAME:EET
DTSTART:20251026T010000
END:STANDARD
BEGIN:DAYLIGHT
TZOFFSETFROM:+0200
TZOFFSETTO:+0300
TZNAME:EEST
DTSTART:20260329T010000
END:DAYLIGHT
BEGIN:STANDARD
TZOFFSETFROM:+0300
TZOFFSETTO:+0200
TZNAME:EET
DTSTART:20261025T010000
END:STANDARD
END:VTIMEZONE
BEGIN:VEVENT
DTSTART;TZID=Europe/Helsinki:20250910T060000
DTEND;TZID=Europe/Helsinki:20250910T131500
DTSTAMP:20260421T173802
CREATED:20250402T140553Z
LAST-MODIFIED:20250403T110934Z
UID:10000288-1757484000-1757510100@fnserviss.lv
SUMMARY:40 stundu programma “Uzticības persona darba aizsardzībā” grupa Nr. 4-3.diena
DESCRIPTION:40 stundu profesionālās pilnveides programma\, kas sagatavo uzticības personas\, kas spētu patstāvīgi risināt darba aizsardzības jautājumus valsts\, pašvaldības iestādēs un organizācijās\, valsts un pašvaldību dibinātās institūcijās\, sabiedriskajās organizācijās un komercsabiedrībās.
URL:https://fnserviss.lv/event/40-stundu-programmas-uzticibas-persona-darba-aizsardziba-grupa-nr-4-3-diena/
LOCATION:Tiešsaistē\, MS Teams
ATTACH;FMTTYPE=image/png:https://fnserviss.lv/wp-content/uploads/DA-aizsardzibas-persona-ikonas-05.png
ORGANIZER;CN="M%C4%81c%C4%ABbu centrs 'Dro%C5%A1%C4%ABba'":MAILTO:macibucentrs@fnserviss.lv
END:VEVENT
BEGIN:VEVENT
DTSTART;TZID=Europe/Helsinki:20250910T060000
DTEND;TZID=Europe/Helsinki:20250910T131500
DTSTAMP:20260421T173802
CREATED:20250402T132157Z
LAST-MODIFIED:20250403T102350Z
UID:10000529-1757484000-1757510100@fnserviss.lv
SUMMARY:60 stundu pamatlīmeņa kursi "Darba aizsardzībā" grupa Nr.4-3.diena
DESCRIPTION:Pamatlīmeņa\, jeb 60 stundu\, apmācības laikā speciālisti iegūst zināšanas par būtiskākajiem darba aizsardzības pamatjautājumiem: vispārīgiem darba aizsardzības jautājumiem\, normatīvajiem aktiem\, darba vides risku ietekmi\, novērtēšanu un novēršanu.
URL:https://fnserviss.lv/event/60-stundu-pamatlimena-kursi-darba-aizsardziba-grupa-nr-4-3-diena-2025/
LOCATION:Tiešsaistē\, MS Teams
CATEGORIES:Darba aizsardzības kursi un semināri
ATTACH;FMTTYPE=image/png:https://fnserviss.lv/wp-content/uploads/darba_aizsardziba.png
ORGANIZER;CN="M%C4%81c%C4%ABbu centrs 'Dro%C5%A1%C4%ABba'":MAILTO:macibucentrs@fnserviss.lv
END:VEVENT
BEGIN:VEVENT
DTSTART;TZID=Europe/Helsinki:20250908T060000
DTEND;TZID=Europe/Helsinki:20250908T131500
DTSTAMP:20260421T173802
CREATED:20250402T125618Z
LAST-MODIFIED:20250403T095707Z
UID:10000515-1757311200-1757337300@fnserviss.lv
SUMMARY:160 stundu kursi "Ugunsdrošība un aizsardzība" grupa Nr.5 -1.diena
DESCRIPTION:Pamatlīmeņu zināšanu programma par objekta ugunsdrošību atbildīgajiem darbiniekiem\, 160 stundu profesionālas pilnveides izglītības programma
URL:https://fnserviss.lv/event/160-stundu-kursi-ugundrosiba-un-aizsardziba-grupa-nr-5-1-diena-2025/
LOCATION:Tiešsaistē\, MS Teams
CATEGORIES:Ugunsdrošības kursi un semināri
ATTACH;FMTTYPE=image/png:https://fnserviss.lv/wp-content/uploads/160h.png
ORGANIZER;CN="M%C4%81c%C4%ABbu centrs 'Dro%C5%A1%C4%ABba'":MAILTO:macibucentrs@fnserviss.lv
END:VEVENT
BEGIN:VEVENT
DTSTART;TZID=Europe/Helsinki:20250904T060000
DTEND;TZID=Europe/Helsinki:20250904T131500
DTSTAMP:20260421T173802
CREATED:20250402T140540Z
LAST-MODIFIED:20250403T110752Z
UID:10000287-1756965600-1756991700@fnserviss.lv
SUMMARY:40 stundu programma “Uzticības persona darba aizsardzībā” grupa Nr. 4-2.diena
DESCRIPTION:40 stundu profesionālās pilnveides programma\, kas sagatavo uzticības personas\, kas spētu patstāvīgi risināt darba aizsardzības jautājumus valsts\, pašvaldības iestādēs un organizācijās\, valsts un pašvaldību dibinātās institūcijās\, sabiedriskajās organizācijās un komercsabiedrībās.
URL:https://fnserviss.lv/event/40-stundu-programmas-uzticibas-persona-darba-aizsardziba-grupa-nr-4-2-diena/
LOCATION:Tiešsaistē\, MS Teams
ATTACH;FMTTYPE=image/png:https://fnserviss.lv/wp-content/uploads/DA-aizsardzibas-persona-ikonas-05.png
ORGANIZER;CN="M%C4%81c%C4%ABbu centrs 'Dro%C5%A1%C4%ABba'":MAILTO:macibucentrs@fnserviss.lv
END:VEVENT
BEGIN:VEVENT
DTSTART;TZID=Europe/Helsinki:20250904T060000
DTEND;TZID=Europe/Helsinki:20250904T131500
DTSTAMP:20260421T173802
CREATED:20250402T132031Z
LAST-MODIFIED:20250403T102249Z
UID:10000528-1756965600-1756991700@fnserviss.lv
SUMMARY:60 stundu pamatlīmeņa kursi "Darba aizsardzībā" grupa Nr.4-2.diena
DESCRIPTION:Pamatlīmeņa\, jeb 60 stundu\, apmācības laikā speciālisti iegūst zināšanas par būtiskākajiem darba aizsardzības pamatjautājumiem: vispārīgiem darba aizsardzības jautājumiem\, normatīvajiem aktiem\, darba vides risku ietekmi\, novērtēšanu un novēršanu.
URL:https://fnserviss.lv/event/60-stundu-pamatlimena-kursi-darba-aizsardziba-grupa-nr-4-2-diena-2025/
LOCATION:Tiešsaistē\, MS Teams
CATEGORIES:Darba aizsardzības kursi un semināri
ATTACH;FMTTYPE=image/png:https://fnserviss.lv/wp-content/uploads/darba_aizsardziba.png
ORGANIZER;CN="M%C4%81c%C4%ABbu centrs 'Dro%C5%A1%C4%ABba'":MAILTO:macibucentrs@fnserviss.lv
END:VEVENT
BEGIN:VEVENT
DTSTART;TZID=Europe/Helsinki:20250903T060000
DTEND;TZID=Europe/Helsinki:20250903T131500
DTSTAMP:20260421T173802
CREATED:20250403T105513Z
LAST-MODIFIED:20250403T110826Z
UID:10000286-1756879200-1756905300@fnserviss.lv
SUMMARY:40 stundu programma “Uzticības persona darba aizsardzībā” grupa Nr. 4-1.diena
DESCRIPTION:40 stundu profesionālās pilnveides programma\, kas sagatavo uzticības personas\, kas spētu patstāvīgi risināt darba aizsardzības jautājumus valsts\, pašvaldības iestādēs un organizācijās\, valsts un pašvaldību dibinātās institūcijās\, sabiedriskajās organizācijās un komercsabiedrībās.
URL:https://fnserviss.lv/event/40-stundu-programmas-uzticibas-persona-darba-aizsardziba-grupa-nr-4-1-diena/
LOCATION:Tiešsaistē\, MS Teams
ATTACH;FMTTYPE=image/png:https://fnserviss.lv/wp-content/uploads/DA-aizsardzibas-persona-ikonas-05.png
ORGANIZER;CN="M%C4%81c%C4%ABbu centrs 'Dro%C5%A1%C4%ABba'":MAILTO:macibucentrs@fnserviss.lv
END:VEVENT
BEGIN:VEVENT
DTSTART;TZID=Europe/Helsinki:20250903T060000
DTEND;TZID=Europe/Helsinki:20250903T131500
DTSTAMP:20260421T173802
CREATED:20250402T132015Z
LAST-MODIFIED:20250403T102136Z
UID:10000527-1756879200-1756905300@fnserviss.lv
SUMMARY:60 stundu pamatlīmeņa kursi "Darba aizsardzībā" grupa Nr.4-1.diena
DESCRIPTION:Pamatlīmeņa\, jeb 60 stundu\, apmācības laikā speciālisti iegūst zināšanas par būtiskākajiem darba aizsardzības pamatjautājumiem: vispārīgiem darba aizsardzības jautājumiem\, normatīvajiem aktiem\, darba vides risku ietekmi\, novērtēšanu un novēršanu.
URL:https://fnserviss.lv/event/60-stundu-pamatlimena-kursi-darba-aizsardziba-grupa-nr-4-1-diena-2025/
LOCATION:Tiešsaistē\, MS Teams
CATEGORIES:Darba aizsardzības kursi un semināri
ATTACH;FMTTYPE=image/png:https://fnserviss.lv/wp-content/uploads/darba_aizsardziba.png
ORGANIZER;CN="M%C4%81c%C4%ABbu centrs 'Dro%C5%A1%C4%ABba'":MAILTO:macibucentrs@fnserviss.lv
END:VEVENT
BEGIN:VEVENT
DTSTART;TZID=Europe/Helsinki:20250828T060000
DTEND;TZID=Europe/Helsinki:20250828T170000
DTSTAMP:20260421T173802
CREATED:20250402T125057Z
LAST-MODIFIED:20250403T095553Z
UID:10000514-1756360800-1756400400@fnserviss.lv
SUMMARY:160 stundu kursi "Ugunsdrošība un aizsardzība" grupa Nr.4 -Noslēguma eksāmens
DESCRIPTION:Pamatlīmeņu zināšanu programma par objekta ugunsdrošību atbildīgajiem darbiniekiem\, 160 stundu profesionālas pilnveides izglītības programma
URL:https://fnserviss.lv/event/160-stundu-kursi-ugundrosiba-un-aizsardziba-grupa-nr-4-nosleguma-eksamens-2025/
LOCATION:Tiešsaistē\, MS Teams
CATEGORIES:Ugunsdrošības kursi un semināri
ATTACH;FMTTYPE=image/png:https://fnserviss.lv/wp-content/uploads/160h.png
ORGANIZER;CN="M%C4%81c%C4%ABbu centrs 'Dro%C5%A1%C4%ABba'":MAILTO:macibucentrs@fnserviss.lv
END:VEVENT
BEGIN:VEVENT
DTSTART;TZID=Europe/Helsinki:20250814T060000
DTEND;TZID=Europe/Helsinki:20250814T131500
DTSTAMP:20260421T173802
CREATED:20250402T124923Z
LAST-MODIFIED:20250403T095239Z
UID:10000513-1755151200-1755177300@fnserviss.lv
SUMMARY:160 stundu kursi "Ugunsdrošība un aizsardzība" grupa Nr.4 -10.diena
DESCRIPTION:Pamatlīmeņu zināšanu programma par objekta ugunsdrošību atbildīgajiem darbiniekiem\, 160 stundu profesionālas pilnveides izglītības programma
URL:https://fnserviss.lv/event/160-stundu-kursi-ugundrosiba-un-aizsardziba-grupa-nr-4-10-diena-2025/
LOCATION:Tiešsaistē\, MS Teams
CATEGORIES:Ugunsdrošības kursi un semināri
ATTACH;FMTTYPE=image/png:https://fnserviss.lv/wp-content/uploads/160h.png
ORGANIZER;CN="M%C4%81c%C4%ABbu centrs 'Dro%C5%A1%C4%ABba'":MAILTO:macibucentrs@fnserviss.lv
END:VEVENT
BEGIN:VEVENT
DTSTART;TZID=Europe/Helsinki:20250811T060000
DTEND;TZID=Europe/Helsinki:20250811T131500
DTSTAMP:20260421T173802
CREATED:20250402T124838Z
LAST-MODIFIED:20250403T095043Z
UID:10000512-1754892000-1754918100@fnserviss.lv
SUMMARY:160 stundu kursi "Ugunsdrošība un aizsardzība" grupa Nr.4 -9.diena
DESCRIPTION:Pamatlīmeņu zināšanu programma par objekta ugunsdrošību atbildīgajiem darbiniekiem\, 160 stundu profesionālas pilnveides izglītības programma
URL:https://fnserviss.lv/event/160-stundu-kursi-ugundrosiba-un-aizsardziba-grupa-nr-4-9-diena-2025/
LOCATION:Tiešsaistē\, MS Teams
CATEGORIES:Ugunsdrošības kursi un semināri
ATTACH;FMTTYPE=image/png:https://fnserviss.lv/wp-content/uploads/160h.png
ORGANIZER;CN="M%C4%81c%C4%ABbu centrs 'Dro%C5%A1%C4%ABba'":MAILTO:macibucentrs@fnserviss.lv
END:VEVENT
BEGIN:VEVENT
DTSTART;TZID=Europe/Helsinki:20250807T060000
DTEND;TZID=Europe/Helsinki:20250807T131500
DTSTAMP:20260421T173802
CREATED:20250402T124751Z
LAST-MODIFIED:20250403T094914Z
UID:10000511-1754546400-1754572500@fnserviss.lv
SUMMARY:160 stundu kursi "Ugunsdrošība un aizsardzība" grupa Nr.4 -8.diena
DESCRIPTION:Pamatlīmeņu zināšanu programma par objekta ugunsdrošību atbildīgajiem darbiniekiem\, 160 stundu profesionālas pilnveides izglītības programma
URL:https://fnserviss.lv/event/160-stundu-kursi-ugundrosiba-un-aizsardziba-grupa-nr-4-8-diena-2025/
LOCATION:Tiešsaistē\, MS Teams
CATEGORIES:Ugunsdrošības kursi un semināri
ATTACH;FMTTYPE=image/png:https://fnserviss.lv/wp-content/uploads/160h.png
ORGANIZER;CN="M%C4%81c%C4%ABbu centrs 'Dro%C5%A1%C4%ABba'":MAILTO:macibucentrs@fnserviss.lv
END:VEVENT
BEGIN:VEVENT
DTSTART;TZID=Europe/Helsinki:20250804T060000
DTEND;TZID=Europe/Helsinki:20250804T131500
DTSTAMP:20260421T173802
CREATED:20250402T124653Z
LAST-MODIFIED:20250403T094821Z
UID:10000510-1754287200-1754313300@fnserviss.lv
SUMMARY:160 stundu kursi "Ugunsdrošība un aizsardzība" grupa Nr.4 -7.diena
DESCRIPTION:Pamatlīmeņu zināšanu programma par objekta ugunsdrošību atbildīgajiem darbiniekiem\, 160 stundu profesionālas pilnveides izglītības programma
URL:https://fnserviss.lv/event/160-stundu-kursi-ugundrosiba-un-aizsardziba-grupa-nr-4-7-diena-2025/
LOCATION:Tiešsaistē\, MS Teams
CATEGORIES:Ugunsdrošības kursi un semināri
ATTACH;FMTTYPE=image/png:https://fnserviss.lv/wp-content/uploads/160h.png
ORGANIZER;CN="M%C4%81c%C4%ABbu centrs 'Dro%C5%A1%C4%ABba'":MAILTO:macibucentrs@fnserviss.lv
END:VEVENT
BEGIN:VEVENT
DTSTART;TZID=Europe/Helsinki:20250731T060000
DTEND;TZID=Europe/Helsinki:20250731T131500
DTSTAMP:20260421T173802
CREATED:20250402T124555Z
LAST-MODIFIED:20250403T094728Z
UID:10000509-1753941600-1753967700@fnserviss.lv
SUMMARY:160 stundu kursi "Ugunsdrošība un aizsardzība" grupa Nr.4 -6.diena
DESCRIPTION:Pamatlīmeņu zināšanu programma par objekta ugunsdrošību atbildīgajiem darbiniekiem\, 160 stundu profesionālas pilnveides izglītības programma
URL:https://fnserviss.lv/event/160-stundu-kursi-ugundrosiba-un-aizsardziba-grupa-nr-4-6-diena-2025/
LOCATION:Tiešsaistē\, MS Teams
CATEGORIES:Ugunsdrošības kursi un semināri
ATTACH;FMTTYPE=image/png:https://fnserviss.lv/wp-content/uploads/160h.png
ORGANIZER;CN="M%C4%81c%C4%ABbu centrs 'Dro%C5%A1%C4%ABba'":MAILTO:macibucentrs@fnserviss.lv
END:VEVENT
BEGIN:VEVENT
DTSTART;TZID=Europe/Helsinki:20250728T060000
DTEND;TZID=Europe/Helsinki:20250728T131500
DTSTAMP:20260421T173802
CREATED:20250402T124445Z
LAST-MODIFIED:20250403T094638Z
UID:10000508-1753682400-1753708500@fnserviss.lv
SUMMARY:160 stundu kursi "Ugunsdrošība un aizsardzība" grupa Nr.4 -5.diena
DESCRIPTION:Pamatlīmeņu zināšanu programma par objekta ugunsdrošību atbildīgajiem darbiniekiem\, 160 stundu profesionālas pilnveides izglītības programma
URL:https://fnserviss.lv/event/160-stundu-kursi-ugundrosiba-un-aizsardziba-grupa-nr-4-5-diena-2025/
LOCATION:Tiešsaistē\, MS Teams
CATEGORIES:Ugunsdrošības kursi un semināri
ATTACH;FMTTYPE=image/png:https://fnserviss.lv/wp-content/uploads/160h.png
ORGANIZER;CN="M%C4%81c%C4%ABbu centrs 'Dro%C5%A1%C4%ABba'":MAILTO:macibucentrs@fnserviss.lv
END:VEVENT
BEGIN:VEVENT
DTSTART;TZID=Europe/Helsinki:20250724T060000
DTEND;TZID=Europe/Helsinki:20250724T131500
DTSTAMP:20260421T173802
CREATED:20250402T124336Z
LAST-MODIFIED:20250403T094532Z
UID:10000507-1753336800-1753362900@fnserviss.lv
SUMMARY:160 stundu kursi "Ugunsdrošība un aizsardzība" grupa Nr.4 -4.diena
DESCRIPTION:Pamatlīmeņu zināšanu programma par objekta ugunsdrošību atbildīgajiem darbiniekiem\, 160 stundu profesionālas pilnveides izglītības programma
URL:https://fnserviss.lv/event/160-stundu-kursi-ugundrosiba-un-aizsardziba-grupa-nr-4-4-diena-2025/
LOCATION:Tiešsaistē\, MS Teams
CATEGORIES:Ugunsdrošības kursi un semināri
ATTACH;FMTTYPE=image/png:https://fnserviss.lv/wp-content/uploads/160h.png
ORGANIZER;CN="M%C4%81c%C4%ABbu centrs 'Dro%C5%A1%C4%ABba'":MAILTO:macibucentrs@fnserviss.lv
END:VEVENT
BEGIN:VEVENT
DTSTART;TZID=Europe/Helsinki:20250721T060000
DTEND;TZID=Europe/Helsinki:20250721T131500
DTSTAMP:20260421T173802
CREATED:20250402T124207Z
LAST-MODIFIED:20250403T094435Z
UID:10000506-1753077600-1753103700@fnserviss.lv
SUMMARY:160 stundu kursi "Ugunsdrošība un aizsardzība" grupa Nr.4 -3.diena
DESCRIPTION:Pamatlīmeņu zināšanu programma par objekta ugunsdrošību atbildīgajiem darbiniekiem\, 160 stundu profesionālas pilnveides izglītības programma
URL:https://fnserviss.lv/event/160-stundu-kursi-ugundrosiba-un-aizsardziba-grupa-nr-4-3-diena-2025/
LOCATION:Tiešsaistē\, MS Teams
CATEGORIES:Ugunsdrošības kursi un semināri
ATTACH;FMTTYPE=image/png:https://fnserviss.lv/wp-content/uploads/160h.png
ORGANIZER;CN="M%C4%81c%C4%ABbu centrs 'Dro%C5%A1%C4%ABba'":MAILTO:macibucentrs@fnserviss.lv
END:VEVENT
BEGIN:VEVENT
DTSTART;TZID=Europe/Helsinki:20250717T060000
DTEND;TZID=Europe/Helsinki:20250717T131500
DTSTAMP:20260421T173802
CREATED:20250402T124159Z
LAST-MODIFIED:20250403T094314Z
UID:10000265-1752732000-1752758100@fnserviss.lv
SUMMARY:160 stundu kursi "Ugunsdrošība un aizsardzība" grupa Nr.4 -2.diena
DESCRIPTION:Pamatlīmeņu zināšanu programma par objekta ugunsdrošību atbildīgajiem darbiniekiem\, 160 stundu profesionālas pilnveides izglītības programma
URL:https://fnserviss.lv/event/160-stundu-kursi-ugundrosiba-un-aizsardziba-grupa-nr-4-2-diena-2025/
LOCATION:Tiešsaistē\, MS Teams
CATEGORIES:Ugunsdrošības kursi un semināri
ATTACH;FMTTYPE=image/png:https://fnserviss.lv/wp-content/uploads/160h.png
ORGANIZER;CN="M%C4%81c%C4%ABbu centrs 'Dro%C5%A1%C4%ABba'":MAILTO:macibucentrs@fnserviss.lv
END:VEVENT
BEGIN:VEVENT
DTSTART;TZID=Europe/Helsinki:20250714T060000
DTEND;TZID=Europe/Helsinki:20250714T131500
DTSTAMP:20260421T173802
CREATED:20250402T102125Z
LAST-MODIFIED:20250403T094112Z
UID:10000264-1752472800-1752498900@fnserviss.lv
SUMMARY:160 stundu kursi "Ugunsdrošība un aizsardzība" grupa Nr.4 -1.diena
DESCRIPTION:Pamatlīmeņu zināšanu programma par objekta ugunsdrošību atbildīgajiem darbiniekiem\, 160 stundu profesionālas pilnveides izglītības programma
URL:https://fnserviss.lv/event/160-stundu-kursi-ugundrosiba-un-aizsardziba-grupa-nr-4-1-diena-2025/
LOCATION:Tiešsaistē\, MS Teams
CATEGORIES:Ugunsdrošības kursi un semināri
ATTACH;FMTTYPE=image/png:https://fnserviss.lv/wp-content/uploads/160h.png
ORGANIZER;CN="M%C4%81c%C4%ABbu centrs 'Dro%C5%A1%C4%ABba'":MAILTO:macibucentrs@fnserviss.lv
END:VEVENT
BEGIN:VEVENT
DTSTART;TZID=Europe/Helsinki:20250619T060000
DTEND;TZID=Europe/Helsinki:20250619T170000
DTSTAMP:20260421T173802
CREATED:20240625T135812Z
LAST-MODIFIED:20250403T091550Z
UID:10000243-1750312800-1750352400@fnserviss.lv
SUMMARY:160 stundu kursi "Ugunsdrošība un aizsardzība" grupa Nr.3 -Noslēguma eksāmens
DESCRIPTION:Pamatlīmeņu zināšanu programma par objekta ugunsdrošību atbildīgajiem darbiniekiem\, 160 stundu profesionālas pilnveides izglītības programma
URL:https://fnserviss.lv/event/160-stundu-kursi-ugundrosiba-un-aizsardziba-grupa-nr-3-nosleguma-eksamens-2025/
LOCATION:Tiešsaistē\, MS Teams
CATEGORIES:Ugunsdrošības kursi un semināri
ATTACH;FMTTYPE=image/png:https://fnserviss.lv/wp-content/uploads/160h.png
ORGANIZER;CN="M%C4%81c%C4%ABbu centrs 'Dro%C5%A1%C4%ABba'":MAILTO:macibucentrs@fnserviss.lv
END:VEVENT
BEGIN:VEVENT
DTSTART;TZID=Europe/Helsinki:20250605T060000
DTEND;TZID=Europe/Helsinki:20250605T131500
DTSTAMP:20260421T173802
CREATED:20240625T135722Z
LAST-MODIFIED:20250403T091527Z
UID:10000242-1749103200-1749129300@fnserviss.lv
SUMMARY:160 stundu kursi "Ugunsdrošība un aizsardzība" grupa Nr.3 -10.diena
DESCRIPTION:Pamatlīmeņu zināšanu programma par objekta ugunsdrošību atbildīgajiem darbiniekiem\, 160 stundu profesionālas pilnveides izglītības programma
URL:https://fnserviss.lv/event/160-stundu-kursi-ugundrosiba-un-aizsardziba-grupa-nr-3-10-diena-2025/
LOCATION:Tiešsaistē\, MS Teams
CATEGORIES:Ugunsdrošības kursi un semināri
ATTACH;FMTTYPE=image/png:https://fnserviss.lv/wp-content/uploads/160h.png
ORGANIZER;CN="M%C4%81c%C4%ABbu centrs 'Dro%C5%A1%C4%ABba'":MAILTO:macibucentrs@fnserviss.lv
END:VEVENT
BEGIN:VEVENT
DTSTART;TZID=Europe/Helsinki:20250602T060000
DTEND;TZID=Europe/Helsinki:20250602T131500
DTSTAMP:20260421T173802
CREATED:20240625T135639Z
LAST-MODIFIED:20250403T091511Z
UID:10000241-1748844000-1748870100@fnserviss.lv
SUMMARY:160 stundu kursi "Ugunsdrošība un aizsardzība" grupa Nr.3 -9.diena
DESCRIPTION:Pamatlīmeņu zināšanu programma par objekta ugunsdrošību atbildīgajiem darbiniekiem\, 160 stundu profesionālas pilnveides izglītības programma
URL:https://fnserviss.lv/event/160-stundu-kursi-ugundrosiba-un-aizsardziba-grupa-nr-3-9-diena-2025/
LOCATION:Tiešsaistē\, MS Teams
CATEGORIES:Ugunsdrošības kursi un semināri
ATTACH;FMTTYPE=image/png:https://fnserviss.lv/wp-content/uploads/160h.png
ORGANIZER;CN="M%C4%81c%C4%ABbu centrs 'Dro%C5%A1%C4%ABba'":MAILTO:macibucentrs@fnserviss.lv
END:VEVENT
BEGIN:VEVENT
DTSTART;TZID=Europe/Helsinki:20250529T060000
DTEND;TZID=Europe/Helsinki:20250529T170000
DTSTAMP:20260421T173802
CREATED:20240625T111629Z
LAST-MODIFIED:20250403T091453Z
UID:10000220-1748498400-1748538000@fnserviss.lv
SUMMARY:60 stundu pamatlīmeņa kursi "Darba aizsardzībā" grupa Nr.3-Noslēguma eksāmens
DESCRIPTION:Pamatlīmeņa\, jeb 60 stundu\, apmācības laikā speciālisti iegūst zināšanas par būtiskākajiem darba aizsardzības pamatjautājumiem: vispārīgiem darba aizsardzības jautājumiem\, normatīvajiem aktiem\, darba vides risku ietekmi\, novērtēšanu un novēršanu.
URL:https://fnserviss.lv/event/60-stundu-pamatlimena-kursi-darba-aizsardziba-grupa-nr-3-nosleguma-eksamens-2025/
LOCATION:Tiešsaistē\, MS Teams
CATEGORIES:Darba aizsardzības kursi un semināri
ATTACH;FMTTYPE=image/png:https://fnserviss.lv/wp-content/uploads/darba_aizsardziba.png
ORGANIZER;CN="M%C4%81c%C4%ABbu centrs 'Dro%C5%A1%C4%ABba'":MAILTO:macibucentrs@fnserviss.lv
END:VEVENT
BEGIN:VEVENT
DTSTART;TZID=Europe/Helsinki:20250529T060000
DTEND;TZID=Europe/Helsinki:20250529T131500
DTSTAMP:20260421T173802
CREATED:20240625T135610Z
LAST-MODIFIED:20250403T091434Z
UID:10000240-1748498400-1748524500@fnserviss.lv
SUMMARY:160 stundu kursi "Ugunsdrošība un aizsardzība" grupa Nr.3 -8.diena
DESCRIPTION:Pamatlīmeņu zināšanu programma par objekta ugunsdrošību atbildīgajiem darbiniekiem\, 160 stundu profesionālas pilnveides izglītības programma
URL:https://fnserviss.lv/event/160-stundu-kursi-ugundrosiba-un-aizsardziba-grupa-nr-3-8-diena-2025/
LOCATION:Tiešsaistē\, MS Teams
CATEGORIES:Ugunsdrošības kursi un semināri
ATTACH;FMTTYPE=image/png:https://fnserviss.lv/wp-content/uploads/160h.png
ORGANIZER;CN="M%C4%81c%C4%ABbu centrs 'Dro%C5%A1%C4%ABba'":MAILTO:macibucentrs@fnserviss.lv
END:VEVENT
BEGIN:VEVENT
DTSTART;TZID=Europe/Helsinki:20250526T060000
DTEND;TZID=Europe/Helsinki:20250526T131500
DTSTAMP:20260421T173802
CREATED:20240625T135542Z
LAST-MODIFIED:20250403T091413Z
UID:10000239-1748239200-1748265300@fnserviss.lv
SUMMARY:160 stundu kursi "Ugunsdrošība un aizsardzība" grupa Nr.3 -7.diena
DESCRIPTION:Pamatlīmeņu zināšanu programma par objekta ugunsdrošību atbildīgajiem darbiniekiem\, 160 stundu profesionālas pilnveides izglītības programma
URL:https://fnserviss.lv/event/160-stundu-kursi-ugundrosiba-un-aizsardziba-grupa-nr-3-7-diena-2025/
LOCATION:Tiešsaistē\, MS Teams
CATEGORIES:Ugunsdrošības kursi un semināri
ATTACH;FMTTYPE=image/png:https://fnserviss.lv/wp-content/uploads/160h.png
ORGANIZER;CN="M%C4%81c%C4%ABbu centrs 'Dro%C5%A1%C4%ABba'":MAILTO:macibucentrs@fnserviss.lv
END:VEVENT
BEGIN:VEVENT
DTSTART;TZID=Europe/Helsinki:20250522T060000
DTEND;TZID=Europe/Helsinki:20250522T131500
DTSTAMP:20260421T173802
CREATED:20241029T103312Z
LAST-MODIFIED:20241030T083354Z
UID:10000259-1747893600-1747919700@fnserviss.lv
SUMMARY:Pirmās palīdzības kursi  12h un 15h - 1.diena
DESCRIPTION: Kursu laikā tiek apgūtas tādas zināšanas kā:  \n \n\n\n Rīcība negadījuma vietā\, piemēram autoavārijā (t.s. cietušā transportēšana);\n Dzīvībai bīstamas asiņošanas apturēšana;\n Rīcība dažādu slimību gadījumā;\n Rīcība slīkšanas\, dažādu traumu\, amputāciju un elektrotraumu gadījumā;\n Rīcība nelaimes gadījumos (ķīmiskās vielas\, traumas no dzīvniekiem\, svešķermeņiem\, ar vairākiem cietušajiem u.c.);\n ABC praktiskais demonstrējums;\n Pirmās palīdzības aptieciņas saturs\, glābēja drošība.\n Un citi saistītie jautājumi.
URL:https://fnserviss.lv/event/pirmas-palidzibas-kursi-12h-15h-1-diena-maijs-2025/
LOCATION:Tiešsaistē\, MS Teams
CATEGORIES:Pirmās palīdzības kursi
ATTACH;FMTTYPE=image/png:https://fnserviss.lv/wp-content/uploads/ikonas_seminariem_002.png
ORGANIZER;CN="M%C4%81c%C4%ABbu centrs 'Dro%C5%A1%C4%ABba'":MAILTO:macibucentrs@fnserviss.lv
END:VEVENT
BEGIN:VEVENT
DTSTART;TZID=Europe/Helsinki:20250522T060000
DTEND;TZID=Europe/Helsinki:20250522T131500
DTSTAMP:20260421T173802
CREATED:20240625T135503Z
LAST-MODIFIED:20250403T091354Z
UID:10000238-1747893600-1747919700@fnserviss.lv
SUMMARY:160 stundu kursi "Ugunsdrošība un aizsardzība" grupa Nr.3 -6.diena
DESCRIPTION:Pamatlīmeņu zināšanu programma par objekta ugunsdrošību atbildīgajiem darbiniekiem\, 160 stundu profesionālas pilnveides izglītības programma
URL:https://fnserviss.lv/event/160-stundu-kursi-ugundrosiba-un-aizsardziba-grupa-nr-3-6-diena-2025/
LOCATION:Tiešsaistē\, MS Teams
CATEGORIES:Ugunsdrošības kursi un semināri
ATTACH;FMTTYPE=image/png:https://fnserviss.lv/wp-content/uploads/160h.png
ORGANIZER;CN="M%C4%81c%C4%ABbu centrs 'Dro%C5%A1%C4%ABba'":MAILTO:macibucentrs@fnserviss.lv
END:VEVENT
BEGIN:VEVENT
DTSTART;TZID=Europe/Helsinki:20250522T060000
DTEND;TZID=Europe/Helsinki:20250522T131500
DTSTAMP:20260421T173802
CREATED:20240625T111551Z
LAST-MODIFIED:20250403T091336Z
UID:10000478-1747893600-1747919700@fnserviss.lv
SUMMARY:60 stundu pamatlīmeņa kursi "Darba aizsardzībā" grupa Nr.3-6.diena
DESCRIPTION:Pamatlīmeņa\, jeb 60 stundu\, apmācības laikā speciālisti iegūst zināšanas par būtiskākajiem darba aizsardzības pamatjautājumiem: vispārīgiem darba aizsardzības jautājumiem\, normatīvajiem aktiem\, darba vides risku ietekmi\, novērtēšanu un novēršanu.
URL:https://fnserviss.lv/event/60-stundu-pamatlimena-kursi-darba-aizsardziba-grupa-nr-3-6-diena-2025/
LOCATION:Tiešsaistē\, MS Teams
CATEGORIES:Darba aizsardzības kursi un semināri
ATTACH;FMTTYPE=image/png:https://fnserviss.lv/wp-content/uploads/darba_aizsardziba.png
ORGANIZER;CN="M%C4%81c%C4%ABbu centrs 'Dro%C5%A1%C4%ABba'":MAILTO:macibucentrs@fnserviss.lv
END:VEVENT
BEGIN:VEVENT
DTSTART;TZID=Europe/Helsinki:20250521T060000
DTEND;TZID=Europe/Helsinki:20250521T131500
DTSTAMP:20260421T173802
CREATED:20240625T111509Z
LAST-MODIFIED:20250403T091147Z
UID:10000476-1747807200-1747833300@fnserviss.lv
SUMMARY:60 stundu pamatlīmeņa kursi "Darba aizsardzībā" grupa Nr.3-5.diena
DESCRIPTION:Pamatlīmeņa\, jeb 60 stundu\, apmācības laikā speciālisti iegūst zināšanas par būtiskākajiem darba aizsardzības pamatjautājumiem: vispārīgiem darba aizsardzības jautājumiem\, normatīvajiem aktiem\, darba vides risku ietekmi\, novērtēšanu un novēršanu.
URL:https://fnserviss.lv/event/60-stundu-pamatlimena-kursi-darba-aizsardziba-grupa-nr-3-5-diena-2025/
LOCATION:Tiešsaistē\, MS Teams
CATEGORIES:Darba aizsardzības kursi un semināri
ATTACH;FMTTYPE=image/png:https://fnserviss.lv/wp-content/uploads/darba_aizsardziba.png
ORGANIZER;CN="M%C4%81c%C4%ABbu centrs 'Dro%C5%A1%C4%ABba'":MAILTO:macibucentrs@fnserviss.lv
END:VEVENT
BEGIN:VEVENT
DTSTART;TZID=Europe/Helsinki:20250519T060000
DTEND;TZID=Europe/Helsinki:20250519T131500
DTSTAMP:20260421T173802
CREATED:20240625T135425Z
LAST-MODIFIED:20250403T091128Z
UID:10000237-1747634400-1747660500@fnserviss.lv
SUMMARY:160 stundu kursi "Ugunsdrošība un aizsardzība" grupa Nr.3 -5.diena
DESCRIPTION:Pamatlīmeņu zināšanu programma par objekta ugunsdrošību atbildīgajiem darbiniekiem\, 160 stundu profesionālas pilnveides izglītības programma
URL:https://fnserviss.lv/event/160-stundu-kursi-ugundrosiba-un-aizsardziba-grupa-nr-3-5-diena-2025/
LOCATION:Tiešsaistē\, MS Teams
CATEGORIES:Ugunsdrošības kursi un semināri
ATTACH;FMTTYPE=image/png:https://fnserviss.lv/wp-content/uploads/160h.png
ORGANIZER;CN="M%C4%81c%C4%ABbu centrs 'Dro%C5%A1%C4%ABba'":MAILTO:macibucentrs@fnserviss.lv
END:VEVENT
BEGIN:VEVENT
DTSTART;TZID=Europe/Helsinki:20250515T060000
DTEND;TZID=Europe/Helsinki:20250515T131500
DTSTAMP:20260421T173802
CREATED:20240625T135356Z
LAST-MODIFIED:20250403T091107Z
UID:10000495-1747288800-1747314900@fnserviss.lv
SUMMARY:160 stundu kursi "Ugunsdrošība un aizsardzība" grupa Nr.3 -4.diena
DESCRIPTION:Pamatlīmeņu zināšanu programma par objekta ugunsdrošību atbildīgajiem darbiniekiem\, 160 stundu profesionālas pilnveides izglītības programma
URL:https://fnserviss.lv/event/160-stundu-kursi-ugundrosiba-un-aizsardziba-grupa-nr-3-4-diena-2025/
LOCATION:Tiešsaistē\, MS Teams
CATEGORIES:Ugunsdrošības kursi un semināri
ATTACH;FMTTYPE=image/png:https://fnserviss.lv/wp-content/uploads/160h.png
ORGANIZER;CN="M%C4%81c%C4%ABbu centrs 'Dro%C5%A1%C4%ABba'":MAILTO:macibucentrs@fnserviss.lv
END:VEVENT
END:VCALENDAR